BEGIN:VCALENDAR
VERSION:2.0
PRODID:-//Prince William County Democrats - ECPv6.15.20//NONSGML v1.0//EN
CALSCALE:GREGORIAN
METHOD:PUBLISH
X-ORIGINAL-URL:https://www.princewilliamdemocrats.com
X-WR-CALDESC:Events for Prince William County Democrats
REFRESH-INTERVAL;VALUE=DURATION:PT1H
X-Robots-Tag:noindex
X-PUBLISHED-TTL:PT1H
BEGIN:VTIMEZONE
TZID:UTC
BEGIN:STANDARD
TZOFFSETFROM:+0000
TZOFFSETTO:+0000
TZNAME:UTC
DTSTART:20230101T000000
END:STANDARD
END:VTIMEZONE
BEGIN:VEVENT
DTSTART;TZID=UTC:20240714T103000
DTEND;TZID=UTC:20240714T123000
DTSTAMP:20260419T181028
CREATED:20240715T001230Z
LAST-MODIFIED:20240715T001307Z
UID:10001980-1720953000-1720960200@www.princewilliamdemocrats.com
SUMMARY:Brunch For Justice with Amy Ashworth
DESCRIPTION:
URL:https://www.princewilliamdemocrats.com/event/2024-07-14-1030am-brunch-for-justice-with-amy-ashworth/
CATEGORIES:Prince William County Democratic Event
ATTACH;FMTTYPE=image/png:https://www.princewilliamdemocrats.com/wp-content/uploads/2024/07/2024-amy-ashworth-brunch-for-justice.png
END:VEVENT
END:VCALENDAR