BEGIN:VCALENDAR
VERSION:2.0
PRODID:-//Prince William County Democrats - ECPv6.15.20//NONSGML v1.0//EN
CALSCALE:GREGORIAN
METHOD:PUBLISH
X-ORIGINAL-URL:https://www.princewilliamdemocrats.com
X-WR-CALDESC:Events for Prince William County Democrats
REFRESH-INTERVAL;VALUE=DURATION:PT1H
X-Robots-Tag:noindex
X-PUBLISHED-TTL:PT1H
BEGIN:VTIMEZONE
TZID:UTC
BEGIN:STANDARD
TZOFFSETFROM:+0000
TZOFFSETTO:+0000
TZNAME:UTC
DTSTART:20230101T000000
END:STANDARD
END:VTIMEZONE
BEGIN:VEVENT
DTSTART;TZID=UTC:20240626T183000
DTEND;TZID=UTC:20240626T203000
DTSTAMP:20260419T194711
CREATED:20240619T232538Z
LAST-MODIFIED:20240619T232538Z
UID:10001873-1719426600-1719433800@www.princewilliamdemocrats.com
SUMMARY:Please Join us for an event honoring Jay Jones on June 26th in Woodbridge
DESCRIPTION:For More Details: Click Here \n  \nPlease join hosts: \nPam and Dexter Montgomery (host committee in formation) and special guest \nThe Honorable Luke Torian for a fundraising reception honoring Jay Jones \n  \nWednesday\, June 26\, 2024\n6:30 PM \n  \nThe Montgomery Home\nWoodbridge\, VA\n*Address Upon RSVP \n  \nSuggested Contribution\nCo-Host: $2\,500\nSponsor: $1\,000\nBenefactor: $500\nFriend: $250\nGuest: $100\nYD: $50
URL:https://www.princewilliamdemocrats.com/event/please-join-us-for-an-event-honoring-jay-jones-on-june-26th-in-woodbridge/
CATEGORIES:Prince William County Democratic Event
ATTACH;FMTTYPE=image/png:https://www.princewilliamdemocrats.com/wp-content/uploads/2024/06/2024-virginians-for-jay-jones.png
END:VEVENT
END:VCALENDAR