BEGIN:VCALENDAR
VERSION:2.0
PRODID:-//Prince William County Democrats - ECPv6.15.20//NONSGML v1.0//EN
CALSCALE:GREGORIAN
METHOD:PUBLISH
X-WR-CALNAME:Prince William County Democrats
X-ORIGINAL-URL:https://www.princewilliamdemocrats.com
X-WR-CALDESC:Events for Prince William County Democrats
REFRESH-INTERVAL;VALUE=DURATION:PT1H
X-Robots-Tag:noindex
X-PUBLISHED-TTL:PT1H
BEGIN:VTIMEZONE
TZID:UTC
BEGIN:STANDARD
TZOFFSETFROM:+0000
TZOFFSETTO:+0000
TZNAME:UTC
DTSTART:20230101T000000
END:STANDARD
END:VTIMEZONE
BEGIN:VEVENT
DTSTART;TZID=UTC:20240618T080000
DTEND;TZID=UTC:20240618T170000
DTSTAMP:20260419T194647
CREATED:20240602T150312Z
LAST-MODIFIED:20240602T150332Z
UID:10001864-1718697600-1718730000@www.princewilliamdemocrats.com
SUMMARY:June 18th Primary Elections
DESCRIPTION:For More Details: Prince William County Office of Elections
URL:https://www.princewilliamdemocrats.com/event/2024-06-18-june-18th-primary-elections/
CATEGORIES:Prince William County Elections
END:VEVENT
BEGIN:VEVENT
DTSTART;TZID=UTC:20240618T183000
DTEND;TZID=UTC:20240618T210000
DTSTAMP:20260419T194647
CREATED:20240602T150757Z
LAST-MODIFIED:20240602T151033Z
UID:10001865-1718735400-1718744400@www.princewilliamdemocrats.com
SUMMARY:Brentsville Dems Primary Election Watch Party
DESCRIPTION:June 18th – Brentsville Dems Primary Election Watch Party @ Great Mane\nTime 6:30pm – 9:00pm\nLocation Great Mane Brewery in Haymarket\n6620 James madison Hwy\, Haymarket Va 20169\nPlease RSVP on Evite – Link HERE
URL:https://www.princewilliamdemocrats.com/event/2024-06-18-630pm-brentsville-dems-primary-election-watch-party/
CATEGORIES:Prince William County Democratic Event
ATTACH;FMTTYPE=image/jpeg:https://www.princewilliamdemocrats.com/wp-content/uploads/2023/05/pwc-democrats-mobilize.jpg
END:VEVENT
END:VCALENDAR