BEGIN:VCALENDAR
VERSION:2.0
PRODID:-//Prince William County Democrats - ECPv6.15.20//NONSGML v1.0//EN
CALSCALE:GREGORIAN
METHOD:PUBLISH
X-ORIGINAL-URL:https://www.princewilliamdemocrats.com
X-WR-CALDESC:Events for Prince William County Democrats
REFRESH-INTERVAL;VALUE=DURATION:PT1H
X-Robots-Tag:noindex
X-PUBLISHED-TTL:PT1H
BEGIN:VTIMEZONE
TZID:UTC
BEGIN:STANDARD
TZOFFSETFROM:+0000
TZOFFSETTO:+0000
TZNAME:UTC
DTSTART:20230101T000000
END:STANDARD
END:VTIMEZONE
BEGIN:VEVENT
DTSTART;TZID=UTC:20240617T190000
DTEND;TZID=UTC:20240617T200000
DTSTAMP:20260419T194719
CREATED:20240621T203659Z
LAST-MODIFIED:20240621T203713Z
UID:10001874-1718650800-1718654400@www.princewilliamdemocrats.com
SUMMARY:PWC Latino Caucus - 4th of July Planning Committee Meeting
DESCRIPTION:Hola PWCDC Latino Caucus Members and 4th of July Parade Committee- \nA massive THANK YOU to all our dedicated volunteers gearing up for the Dale City July 4th Parade!  \n Your passion and commitment light up our community.  \nWe’re not just marching this year; we’re going BIG! We have the exciting opportunity to create the first-ever Latino Caucus Parade float! \nThis is our chance to showcase our culture and spirit in a huge way.  \nWe need hands and hearts to help with everything from design to construction\, and outreach to drum up support. \nLet’s rally together and make a vibrant\, unforgettable statement!
URL:https://www.princewilliamdemocrats.com/event/2024-06-17-7pm-pwc-latino-caucus-4th-of-july-planning-committee-meeting/
LOCATION:Virtual Event
CATEGORIES:District Meeting
ATTACH;FMTTYPE=image/jpeg:https://www.princewilliamdemocrats.com/wp-content/uploads/2021/02/democratic-monthly-meeting.jpg
END:VEVENT
END:VCALENDAR