BEGIN:VCALENDAR
VERSION:2.0
PRODID:-//Prince William County Democrats - ECPv6.15.20//NONSGML v1.0//EN
CALSCALE:GREGORIAN
METHOD:PUBLISH
X-ORIGINAL-URL:https://www.princewilliamdemocrats.com
X-WR-CALDESC:Events for Prince William County Democrats
REFRESH-INTERVAL;VALUE=DURATION:PT1H
X-Robots-Tag:noindex
X-PUBLISHED-TTL:PT1H
BEGIN:VTIMEZONE
TZID:UTC
BEGIN:STANDARD
TZOFFSETFROM:+0000
TZOFFSETTO:+0000
TZNAME:UTC
DTSTART:20230101T000000
END:STANDARD
END:VTIMEZONE
BEGIN:VEVENT
DTSTART;TZID=UTC:20240613T180000
DTEND;TZID=UTC:20240613T200000
DTSTAMP:20260419T194709
CREATED:20240521T141152Z
LAST-MODIFIED:20240521T141152Z
UID:10001847-1718301600-1718308800@www.princewilliamdemocrats.com
SUMMARY:Victor Angry's Summer Kickoff!
DESCRIPTION:For More Details: Click Here \nJoin me for my Summer Kickoff! \nWhen: Thursday\, June 13th\, 6pm-8pm \nWhere: 2 Silos Brewing\, 9925 Discovery Blvd\, Manassas\, VA 20109 \nSince I announced that I was running for Neabsco Supervisor\, your support has been the driving force behind our movement\, and your presence at this event will make it even more special. Whether you’re a long-time supporter or new to the community\, this is the perfect occasion to connect with fellow advocates and enjoy a wonderful summer evening.
URL:https://www.princewilliamdemocrats.com/event/2024-06-13-6pm-victor-angrys-summer-kickoff/
CATEGORIES:Prince William County Democratic Event
ATTACH;FMTTYPE=image/jpeg:https://www.princewilliamdemocrats.com/wp-content/uploads/2024/05/2024-victor-angrys-sumer-kick-off.jpg
END:VEVENT
END:VCALENDAR