BEGIN:VCALENDAR
VERSION:2.0
PRODID:-//Prince William County Democrats - ECPv6.15.20//NONSGML v1.0//EN
CALSCALE:GREGORIAN
METHOD:PUBLISH
X-ORIGINAL-URL:https://www.princewilliamdemocrats.com
X-WR-CALDESC:Events for Prince William County Democrats
REFRESH-INTERVAL;VALUE=DURATION:PT1H
X-Robots-Tag:noindex
X-PUBLISHED-TTL:PT1H
BEGIN:VTIMEZONE
TZID:UTC
BEGIN:STANDARD
TZOFFSETFROM:+0000
TZOFFSETTO:+0000
TZNAME:UTC
DTSTART:20230101T000000
END:STANDARD
END:VTIMEZONE
BEGIN:VEVENT
DTSTART;TZID=UTC:20240606T103000
DTEND;TZID=UTC:20240606T130000
DTSTAMP:20260419T194716
CREATED:20240602T152910Z
LAST-MODIFIED:20240602T153210Z
UID:10001867-1717669800-1717678800@www.princewilliamdemocrats.com
SUMMARY:FINAL Virginia 7th Congressional District Democratic Candidates Forum
DESCRIPTION:Event Details: \n  \nDate: June 6\, 2024 \nRefreshments & Networking: 10:30 AM \nCandidates Forum: 11:00 AM \nLocation: Intelligent Office\, 1934 Old Gallows Rd\, STE 350\, Vienna\, VA 22182 \n  \nThis forum is an excellent opportunity to engage with the candidates running for the Virginia 7th Congressional District Seat. It is being organized by the Virginia Minority Chambers\, Inc. in partnership with the Multicultural Chamber of Alliance\, which includes the Asian American Chamber of Commerce\, the Virginia Hispanic Chamber of Commerce\, and the Northern Virginia Black Chamber of Commerce. The candidates participating in the forum are Andrea Bailey\, Margaret Franklin\, Elizabeth Guzman\, Briana Sewell\, and Eugene Vindman. Attendees will hear directly from the candidates as they discuss their platforms and address key issues facing our community\, especially on critical issues of workforce training and minority/small business development in the 7th District\, the Commonwealth and nationwide. \n  \nGiven your leadership and dedication to the community\, we believe your presence would be highly valuable. We would be honored to have you join us for this important event. You may register up to two (2) guests. \n  \nPlease confirm your participation by registering at the following link: Virginia 7th Congressional District Democratic Candidates Forum Registration.
URL:https://www.princewilliamdemocrats.com/event/2024-06-06-1030am-final-virginia-7th-congressional-district-democratic-candidates-forum/
CATEGORIES:Prince William County Elections
ATTACH;FMTTYPE=image/jpeg:https://www.princewilliamdemocrats.com/wp-content/uploads/2024/06/2024-final-7th-district-forum.jpg
END:VEVENT
END:VCALENDAR