BEGIN:VCALENDAR
VERSION:2.0
PRODID:-//Prince William County Democrats - ECPv6.15.20//NONSGML v1.0//EN
CALSCALE:GREGORIAN
METHOD:PUBLISH
X-WR-CALNAME:Prince William County Democrats
X-ORIGINAL-URL:https://www.princewilliamdemocrats.com
X-WR-CALDESC:Events for Prince William County Democrats
REFRESH-INTERVAL;VALUE=DURATION:PT1H
X-Robots-Tag:noindex
X-PUBLISHED-TTL:PT1H
BEGIN:VTIMEZONE
TZID:UTC
BEGIN:STANDARD
TZOFFSETFROM:+0000
TZOFFSETTO:+0000
TZNAME:UTC
DTSTART:20230101T000000
END:STANDARD
END:VTIMEZONE
BEGIN:VEVENT
DTSTART;TZID=UTC:20240603T170000
DTEND;TZID=UTC:20240603T190000
DTSTAMP:20260419T194645
CREATED:20240602T153650Z
LAST-MODIFIED:20240602T153755Z
UID:10001868-1717434000-1717441200@www.princewilliamdemocrats.com
SUMMARY:A Meet and Greet With David Reid for Congress
DESCRIPTION:Please join Mark and Donna Greer for a reception supporting David Reid for Virginia’s 10th Congressional District: \nMonday\, June 3rd \n5:00 – 7:00 PM \nHaymarket\, Virginia \nAddress provided via ActBlue email upon RSVP. \nRSVP below. Please email info@reidforvirginia.com with questions. \nWe need your support to help get David to Congress! Please join the team by signing up\, making a contribution\, and bringing your friends and neighbors out to vote! \nFor More Details: Click Here
URL:https://www.princewilliamdemocrats.com/event/2024-06-03-5pm-a-meet-and-greet-with-david-reid-for-congress/
CATEGORIES:Prince William County Democratic Event
ATTACH;FMTTYPE=image/jpeg:https://www.princewilliamdemocrats.com/wp-content/uploads/2024/06/2024-david-reid-for-congress.jpg
END:VEVENT
END:VCALENDAR