BEGIN:VCALENDAR
VERSION:2.0
PRODID:-//Prince William County Democrats - ECPv6.15.20//NONSGML v1.0//EN
CALSCALE:GREGORIAN
METHOD:PUBLISH
X-WR-CALNAME:Prince William County Democrats
X-ORIGINAL-URL:https://www.princewilliamdemocrats.com
X-WR-CALDESC:Events for Prince William County Democrats
REFRESH-INTERVAL;VALUE=DURATION:PT1H
X-Robots-Tag:noindex
X-PUBLISHED-TTL:PT1H
BEGIN:VTIMEZONE
TZID:UTC
BEGIN:STANDARD
TZOFFSETFROM:+0000
TZOFFSETTO:+0000
TZNAME:UTC
DTSTART:20230101T000000
END:STANDARD
END:VTIMEZONE
BEGIN:VEVENT
DTSTART;TZID=UTC:20240601T090000
DTEND;TZID=UTC:20240601T110000
DTSTAMP:20260419T194650
CREATED:20240602T124529Z
LAST-MODIFIED:20240602T124529Z
UID:10001858-1717232400-1717239600@www.princewilliamdemocrats.com
SUMMARY:Coles District Monthly Meeting
DESCRIPTION:Coles District Monthly Meeting
URL:https://www.princewilliamdemocrats.com/event/2024-06-01-coles-district-monthly-meeting/
LOCATION:Virtual Event
CATEGORIES:District Meeting
ATTACH;FMTTYPE=image/jpeg:https://www.princewilliamdemocrats.com/wp-content/uploads/2021/02/democratic-monthly-meeting.jpg
END:VEVENT
BEGIN:VEVENT
DTSTART;TZID=UTC:20240601T100000
DTEND;TZID=UTC:20240601T120000
DTSTAMP:20260419T194650
CREATED:20240530T195551Z
LAST-MODIFIED:20240530T195551Z
UID:10001853-1717236000-1717243200@www.princewilliamdemocrats.com
SUMMARY:2024 VA Dems Coordinated Campaign
DESCRIPTION:Biden-Harris-Kaine-McClellan Coordinated Campaign Office Opening & BLACK VOTERS BLOCK PARTY with food provided by local Black-owned vendors\, DJ Music and Other Fun and Entertainment!\n\nYou are invited to our upcoming Richmond\, VA coordinated campaign OFFICE OPENING & BLOCK PARTY on Saturday June 1. Office Opening at 10AM\, Block Party to follow!\n\nMore Details: Click Here
URL:https://www.princewilliamdemocrats.com/event/2024-06-01-10am-va-dems-coordinated-campaign/
END:VEVENT
END:VCALENDAR