BEGIN:VCALENDAR
VERSION:2.0
PRODID:-//Prince William County Democrats - ECPv6.15.20//NONSGML v1.0//EN
CALSCALE:GREGORIAN
METHOD:PUBLISH
X-WR-CALNAME:Prince William County Democrats
X-ORIGINAL-URL:https://www.princewilliamdemocrats.com
X-WR-CALDESC:Events for Prince William County Democrats
REFRESH-INTERVAL;VALUE=DURATION:PT1H
X-Robots-Tag:noindex
X-PUBLISHED-TTL:PT1H
BEGIN:VTIMEZONE
TZID:UTC
BEGIN:STANDARD
TZOFFSETFROM:+0000
TZOFFSETTO:+0000
TZNAME:UTC
DTSTART:20230101T000000
END:STANDARD
END:VTIMEZONE
BEGIN:VEVENT
DTSTART;TZID=UTC:20240529T170000
DTEND;TZID=UTC:20240529T190000
DTSTAMP:20260419T194650
CREATED:20240524T001157Z
LAST-MODIFIED:20240524T001157Z
UID:10001849-1717002000-1717009200@www.princewilliamdemocrats.com
SUMMARY:Margaret Angela Franklin For Congress
DESCRIPTION:For More Details: Click Here
URL:https://www.princewilliamdemocrats.com/event/2024-05-29-5pm-margaret-angela-franklin-for-congress/
CATEGORIES:Prince William County Democratic Event
ATTACH;FMTTYPE=image/png:https://www.princewilliamdemocrats.com/wp-content/uploads/2024/05/2024-margaret-franklin-for-congress.png
END:VEVENT
BEGIN:VEVENT
DTSTART;TZID=UTC:20240529T190000
DTEND;TZID=UTC:20240529T200000
DTSTAMP:20260419T194650
CREATED:20240529T223631Z
LAST-MODIFIED:20240530T141302Z
UID:10001852-1717009200-1717012800@www.princewilliamdemocrats.com
SUMMARY:PWC Latino Caucus Monthly Meeting
DESCRIPTION:
URL:https://www.princewilliamdemocrats.com/event/2024-05-29-7pm-pwc-hispanic-committee-meeting/
CATEGORIES:District Meeting
ATTACH;FMTTYPE=image/jpeg:https://www.princewilliamdemocrats.com/wp-content/uploads/2021/02/democratic-monthly-meeting.jpg
END:VEVENT
END:VCALENDAR