BEGIN:VCALENDAR
VERSION:2.0
PRODID:-//Prince William County Democrats - ECPv6.15.20//NONSGML v1.0//EN
CALSCALE:GREGORIAN
METHOD:PUBLISH
X-WR-CALNAME:Prince William County Democrats
X-ORIGINAL-URL:https://www.princewilliamdemocrats.com
X-WR-CALDESC:Events for Prince William County Democrats
REFRESH-INTERVAL;VALUE=DURATION:PT1H
X-Robots-Tag:noindex
X-PUBLISHED-TTL:PT1H
BEGIN:VTIMEZONE
TZID:UTC
BEGIN:STANDARD
TZOFFSETFROM:+0000
TZOFFSETTO:+0000
TZNAME:UTC
DTSTART:20230101T000000
END:STANDARD
END:VTIMEZONE
BEGIN:VEVENT
DTSTART;TZID=UTC:20240525T090000
DTEND;TZID=UTC:20240525T113000
DTSTAMP:20260419T211659
CREATED:20240430T161542Z
LAST-MODIFIED:20240521T134856Z
UID:10001838-1716627600-1716636600@www.princewilliamdemocrats.com
SUMMARY:Potomac District Monthly Meeting
DESCRIPTION:Please contact Potomac District Leadership for additional details.
URL:https://www.princewilliamdemocrats.com/event/2024-05-25-9am-potomac-district-monthly-meeting/
LOCATION:Virtual Event
CATEGORIES:District Meeting
ATTACH;FMTTYPE=image/jpeg:https://www.princewilliamdemocrats.com/wp-content/uploads/2021/02/democratic-monthly-meeting.jpg
END:VEVENT
BEGIN:VEVENT
DTSTART;TZID=UTC:20240525T140000
DTEND;TZID=UTC:20240525T160000
DTSTAMP:20260419T211659
CREATED:20240520T202743Z
LAST-MODIFIED:20240520T202809Z
UID:10001846-1716645600-1716652800@www.princewilliamdemocrats.com
SUMMARY:Briana Sewell Candidate for Congress
DESCRIPTION:For More Details: Click Here \nSupport Briana Sewell for U.S. Congress\n\n  \nJoin Oveta Scott and Melissa Alexander on Saturday\, May 25th for a meet and greet in Woodbridge with Briana Sewell\, candidate for U.S. Congress in VA-07. This is one of the top seats Democrats must hold to flip the House in November. \nSaturday\, May 25th \n2:00 – 4:00 PM \nWoodbridge\, VA \nAddress provided upon RSVP \nTo RSVP\, please make a contribution on this link or email Brittany@BrianaForCongress.com \nBriana has spent her career serving her community and is currently a member of the Virginia House of Delegates and she was named to the Council of State Government’s list of the 20 most effective lawmakers across the nation under 40 years old.  \nSince announcing her run\, Briana has been endorsed by a flood of her colleagues\, including Former Congressman Jim Moran\, Senator and President Pro Tempore L. Louise Lucas\, Senator and Virginia Senate Democratic Caucus Chair Mamie Locke\, Senator and Virginia Legislative Black Caucus Chair Lamont Bagby\, Senator and Agriculture\, Conservation and Natural Resources Chair David Marsden\, Senator and Education and Health Chair Ghazala Hashmi\, Delegate and Health and Human Services Chair Mark Sickles\, Delegate and Privileges and Elections Chair Marcia “Cia” Price\, Delegate and Public Safety Chair\, Marcus Simon\, Delegate and Communications\, Technology and Innovation Chair C.E. Cliff Hayes\, Delegate and Virginia Asian American Pacific Islander Caucus Chair Irene Shin\, Delegate Laura Jane Cohen\, Delegate Jackie Glass\, Former Delegate Jeff Bourne\, Former Delegate Kathleen Murphy\, and Former Delegate Ken Plum. \nJoin our team!
URL:https://www.princewilliamdemocrats.com/event/2024-05-25-2pm-briana-sewell-candidate-for-congress/
CATEGORIES:Prince William County Democratic Event
ATTACH;FMTTYPE=image/jpeg:https://www.princewilliamdemocrats.com/wp-content/uploads/2024/05/2024-05-25-briana-sewell.jpg
END:VEVENT
END:VCALENDAR