BEGIN:VCALENDAR
VERSION:2.0
PRODID:-//Prince William County Democrats - ECPv6.15.20//NONSGML v1.0//EN
CALSCALE:GREGORIAN
METHOD:PUBLISH
X-ORIGINAL-URL:https://www.princewilliamdemocrats.com
X-WR-CALDESC:Events for Prince William County Democrats
REFRESH-INTERVAL;VALUE=DURATION:PT1H
X-Robots-Tag:noindex
X-PUBLISHED-TTL:PT1H
BEGIN:VTIMEZONE
TZID:UTC
BEGIN:STANDARD
TZOFFSETFROM:+0000
TZOFFSETTO:+0000
TZNAME:UTC
DTSTART:20230101T000000
END:STANDARD
END:VTIMEZONE
BEGIN:VEVENT
DTSTART;TZID=UTC:20240510T110000
DTEND;TZID=UTC:20240510T130000
DTSTAMP:20260419T211754
CREATED:20240508T172803Z
LAST-MODIFIED:20240508T172836Z
UID:10001843-1715338800-1715346000@www.princewilliamdemocrats.com
SUMMARY:You're Invited! Biden/Harris NoVA HQ Office Opening
DESCRIPTION:Office Opening Celebration of the Biden/Harris Northern Virginia Headquarters in Alexandria. The event is scheduled to take place for Friday\, May 10th at 11am\, and we would be very happy to see you there. \nAs we gear up for a crucial year ahead\, your support and enthusiasm are instrumental in shaping the future we envision for our community and our country. \nTo help us ensure a smooth and enjoyable experience for everyone attending\, we kindly ask that you RSVP by filling out the Google form HERE. Security will be tight\, so please complete it to ensure your attendance. Your response will assist us in planning/logistics.
URL:https://www.princewilliamdemocrats.com/event/2024-05-10-11am-youre-invited-biden-harris-nova-hq-office-opening/
CATEGORIES:Virginia Democratic Event
END:VEVENT
END:VCALENDAR