BEGIN:VCALENDAR
VERSION:2.0
PRODID:-//Prince William County Democrats - ECPv6.15.20//NONSGML v1.0//EN
CALSCALE:GREGORIAN
METHOD:PUBLISH
X-ORIGINAL-URL:https://www.princewilliamdemocrats.com
X-WR-CALDESC:Events for Prince William County Democrats
REFRESH-INTERVAL;VALUE=DURATION:PT1H
X-Robots-Tag:noindex
X-PUBLISHED-TTL:PT1H
BEGIN:VTIMEZONE
TZID:UTC
BEGIN:STANDARD
TZOFFSETFROM:+0000
TZOFFSETTO:+0000
TZNAME:UTC
DTSTART:20230101T000000
END:STANDARD
END:VTIMEZONE
BEGIN:VEVENT
DTSTART;TZID=UTC:20240508T183000
DTEND;TZID=UTC:20240508T210000
DTSTAMP:20260419T211648
CREATED:20240314T011156Z
LAST-MODIFIED:20240314T011156Z
UID:10001792-1715193000-1715202000@www.princewilliamdemocrats.com
SUMMARY:PWCDC - Fundraising Committee Meeting
DESCRIPTION:McCoart – Occoquan
URL:https://www.princewilliamdemocrats.com/event/pwcdc-fundraising-committee-meeting/
CATEGORIES:District Meeting
ATTACH;FMTTYPE=image/jpeg:https://www.princewilliamdemocrats.com/wp-content/uploads/2021/02/democratic-monthly-meeting.jpg
END:VEVENT
BEGIN:VEVENT
DTSTART;TZID=UTC:20240508T190000
DTEND;TZID=UTC:20240508T210000
DTSTAMP:20260419T211648
CREATED:20240508T172300Z
LAST-MODIFIED:20240508T172300Z
UID:10001842-1715194800-1715202000@www.princewilliamdemocrats.com
SUMMARY:The Veterans and Military Families Caucus Update
DESCRIPTION:The Veterans and Military Families Caucus will hold our All Caucus second quarter Zoom meeting on Thursday evening May 9th at 7pm.   Please make time to join us.  We usually do not go over 50 minutes.\n\nWe will meet on this Zoom link: First try this direct Zoom Link by clicking on this link:\n\n\n\n\n\n\n\n\n\n\n\n\nhttps://us06web.zoom.us/j/812136572 \n82?pwd=eDFiTzN2OEs1OXVtWDBmc2VkbGx4UT0 \nIf you need a passcode use 333848 \nIf the direct link does not work just go to zoom.us and then click on “join” and enter the codes manually as follows: \n81213657282 and the pass code is 333848 \nAgenda and Pre-Meeting Updates: \nThe Biden-Harris Campaign has hired a strong Virginia experienced campaign staff. \nJake Rubenstein\, has been hired as the Virginia State Director.  We have known Jake for years as an experienced hard working grassroots field organizer.  I have knocked doors with Jake.  He is a tireless campaigner.  We are lucky to have Jake in this critical leadership position. \nAND \nOur very own Veteran and Military Family Caucus member Tonya James has been hired as the Virginia Political and Coalitions Director.  Tonya will join us and give us a report on Biden-Harris in Virginia. \nAGENDA \nOpening and welcome – Charley Conrad\, Chair Veterans and Military Families Caucus \nApproval of the Agenda and the Minutes (attached) \nTreasurer’s Report – Maggie Saccra \nGUEST SPEAKERS \nTonya James Virginia Political and Coalitions Director for Biden-Harris 2024 \nEmily Hamm New Political Director – Democratic Party of Virginia \nOLD BUSINESS \nKaine Event and Canvass in Virginia Beach on April 19th     Vice Chair Susan Hippen \nNEW BUSINESS \nState Convention on Saturday June 22 in Richmond \nREPORTS \nVice Chair of Elections – Anthony Gitaldo \nVice Chair for Veterans Benefits\, Small Business Development\, and Entrepreneurship Committee – Barrett Bogue \nVice Chair for Veterans Disability Committee: Jason Rich \nVice Chair for Recruiting and Training Veteran Candidates Committee – Naveed Shah \nVice Chair for Technology and Website Development – Matthew Savage \nChairs Report and Closing Remarks  – Charley Conrad \nAdjourn
URL:https://www.princewilliamdemocrats.com/event/2024-05-08-7pm-veterans-family-caucus-meeting/
LOCATION:Virtual Event
END:VEVENT
END:VCALENDAR