BEGIN:VCALENDAR
VERSION:2.0
PRODID:-//Prince William County Democrats - ECPv6.15.20//NONSGML v1.0//EN
CALSCALE:GREGORIAN
METHOD:PUBLISH
X-WR-CALNAME:Prince William County Democrats
X-ORIGINAL-URL:https://www.princewilliamdemocrats.com
X-WR-CALDESC:Events for Prince William County Democrats
REFRESH-INTERVAL;VALUE=DURATION:PT1H
X-Robots-Tag:noindex
X-PUBLISHED-TTL:PT1H
BEGIN:VTIMEZONE
TZID:UTC
BEGIN:STANDARD
TZOFFSETFROM:+0000
TZOFFSETTO:+0000
TZNAME:UTC
DTSTART:20230101T000000
END:STANDARD
END:VTIMEZONE
BEGIN:VEVENT
DTSTART;TZID=UTC:20240502T180000
DTEND;TZID=UTC:20240502T200000
DTSTAMP:20260419T211702
CREATED:20240426T150812Z
LAST-MODIFIED:20240426T151452Z
UID:10001828-1714672800-1714680000@www.princewilliamdemocrats.com
SUMMARY:Reception Honoring Bobby Scott
DESCRIPTION:For More Details: Click Here
URL:https://www.princewilliamdemocrats.com/event/2024-05-02-6pm-reception-honoring-bobby-scott/
CATEGORIES:Prince William County Democratic Event
ATTACH;FMTTYPE=image/png:https://www.princewilliamdemocrats.com/wp-content/uploads/2024/04/2024-bobby-scott-for-congress.png
END:VEVENT
END:VCALENDAR