BEGIN:VCALENDAR
VERSION:2.0
PRODID:-//Prince William County Democrats - ECPv6.15.20//NONSGML v1.0//EN
CALSCALE:GREGORIAN
METHOD:PUBLISH
X-ORIGINAL-URL:https://www.princewilliamdemocrats.com
X-WR-CALDESC:Events for Prince William County Democrats
REFRESH-INTERVAL;VALUE=DURATION:PT1H
X-Robots-Tag:noindex
X-PUBLISHED-TTL:PT1H
BEGIN:VTIMEZONE
TZID:UTC
BEGIN:STANDARD
TZOFFSETFROM:+0000
TZOFFSETTO:+0000
TZNAME:UTC
DTSTART:20230101T000000
END:STANDARD
END:VTIMEZONE
BEGIN:VEVENT
DTSTART;TZID=UTC:20240427T130000
DTEND;TZID=UTC:20240427T160000
DTSTAMP:20260420T000344
CREATED:20240417T132353Z
LAST-MODIFIED:20240419T144743Z
UID:10001825-1714222800-1714233600@www.princewilliamdemocrats.com
SUMMARY:Come Hear The Candidates For CD7
DESCRIPTION:Join Prince William County Democratic Committee for Ask Your Candidates Forum for Congressional District 7 on April 27\, 2024\, from 1pm-4pm at the AJ Ferlazzo Building located at 15941 Donald Curtis Drive\, Woodbridge\, VA.
URL:https://www.princewilliamdemocrats.com/event/2024-4-27-1pm-ask-your-candidates-forum-for-congressional-district-7/
LOCATION:A.J. Ferlazzo Building\, 15941 Donald Curtis Drive\, Woodbridge\, VA\, 22191\, United States
CATEGORIES:Prince William County Democratic Event
ATTACH;FMTTYPE=image/png:https://www.princewilliamdemocrats.com/wp-content/uploads/2024/04/2024-pwc-cd7-candidates-forum.png
END:VEVENT
END:VCALENDAR