BEGIN:VCALENDAR
VERSION:2.0
PRODID:-//Prince William County Democrats - ECPv6.15.20//NONSGML v1.0//EN
CALSCALE:GREGORIAN
METHOD:PUBLISH
X-ORIGINAL-URL:https://www.princewilliamdemocrats.com
X-WR-CALDESC:Events for Prince William County Democrats
REFRESH-INTERVAL;VALUE=DURATION:PT1H
X-Robots-Tag:noindex
X-PUBLISHED-TTL:PT1H
BEGIN:VTIMEZONE
TZID:UTC
BEGIN:STANDARD
TZOFFSETFROM:+0000
TZOFFSETTO:+0000
TZNAME:UTC
DTSTART:20230101T000000
END:STANDARD
END:VTIMEZONE
BEGIN:VEVENT
DTSTART;TZID=UTC:20240408T190000
DTEND;TZID=UTC:20240408T200000
DTSTAMP:20260420T031156
CREATED:20240407T173417Z
LAST-MODIFIED:20240407T173417Z
UID:10001817-1712602800-1712606400@www.princewilliamdemocrats.com
SUMMARY:Team Sewell is Holding a Volunteer Briefing
DESCRIPTION:For More Details: Click Here\nTeam Sewell is holding a volunteer briefing on April 8th at 7pm via zoom and we’re excited to invite you to attend. Having made introductions to committees and individuals across the 7th district\, Briana Sewell’s campaign is gaining grassroots support and we now need your help to get the word out. Join Team Sewell for a briefing call to learn more about how the campaign is building steam and the different ways to you help make sure Briana Sewell becomes our next congresswoman.
URL:https://www.princewilliamdemocrats.com/event/2024-04-08-7pm-team-sewell-is-holding-a-volunteer-briefing/
CATEGORIES:Prince William County Democratic Event
ATTACH;FMTTYPE=image/png:https://www.princewilliamdemocrats.com/wp-content/uploads/2024/04/2024-briana-sewell-volunteer-briefing.png
END:VEVENT
BEGIN:VEVENT
DTSTART;TZID=UTC:20240408T190000
DTEND;TZID=UTC:20240408T210000
DTSTAMP:20260420T031156
CREATED:20240402T001826Z
LAST-MODIFIED:20240402T001826Z
UID:10001806-1712602800-1712610000@www.princewilliamdemocrats.com
SUMMARY:Gainesville District Monthly Meeting
DESCRIPTION:Please contact Gainesville District Leadership for additional details.
URL:https://www.princewilliamdemocrats.com/event/2024-04-08-7pm-gainesville-district-monthly-meeting/
CATEGORIES:District Meeting
ATTACH;FMTTYPE=image/jpeg:https://www.princewilliamdemocrats.com/wp-content/uploads/2021/02/democratic-monthly-meeting.jpg
END:VEVENT
BEGIN:VEVENT
DTSTART;TZID=UTC:20240408T193000
DTEND;TZID=UTC:20240408T203000
DTSTAMP:20260420T031156
CREATED:20240314T013438Z
LAST-MODIFIED:20240314T013459Z
UID:10001494-1712604600-1712608200@www.princewilliamdemocrats.com
SUMMARY:Occoquan District Monthly Meeting
DESCRIPTION:Please contact Occoquan District Leadership for additional details.
URL:https://www.princewilliamdemocrats.com/event/2024-04-08-730pm-occoquan-district-monthly-meeting/
LOCATION:Virtual Event
CATEGORIES:District Meeting
ATTACH;FMTTYPE=image/jpeg:https://www.princewilliamdemocrats.com/wp-content/uploads/2021/02/democratic-monthly-meeting.jpg
END:VEVENT
END:VCALENDAR