BEGIN:VCALENDAR
VERSION:2.0
PRODID:-//Prince William County Democrats - ECPv6.15.20//NONSGML v1.0//EN
CALSCALE:GREGORIAN
METHOD:PUBLISH
X-WR-CALNAME:Prince William County Democrats
X-ORIGINAL-URL:https://www.princewilliamdemocrats.com
X-WR-CALDESC:Events for Prince William County Democrats
REFRESH-INTERVAL;VALUE=DURATION:PT1H
X-Robots-Tag:noindex
X-PUBLISHED-TTL:PT1H
BEGIN:VTIMEZONE
TZID:UTC
BEGIN:STANDARD
TZOFFSETFROM:+0000
TZOFFSETTO:+0000
TZNAME:UTC
DTSTART:20230101T000000
END:STANDARD
END:VTIMEZONE
BEGIN:VEVENT
DTSTART;TZID=UTC:20240405T100000
DTEND;TZID=UTC:20240405T113000
DTSTAMP:20260420T000245
CREATED:20240329T141329Z
LAST-MODIFIED:20240329T141329Z
UID:10001798-1712311200-1712316600@www.princewilliamdemocrats.com
SUMMARY:Kaine 2024 Launch: Rally with Senator Tim Kaine in Alexandria!
DESCRIPTION:More Details: Click Here \nSenator Tim Kaine is launching his 2024 re-election campaign with his “Standing Up for Virginia” tour! And he’ll be hosting a campaign rally in Alexandria on April 5th! \nWith so much at stake\, we need Senator Kaine to keep standing up for Virginia\, as he fights to promote good paying jobs\, protect our democracy\, and safeguard our fundamental rights! \nJoin Senator Kaine\, elected officials\, & community leaders in Alexandria\, and get involved in this historic campaign. Together\, we will re-elect Tim Kaine & help deliver victories for Democrats up and down the ballot in November! \nFurther information will be provided upon RSVP. See you there!
URL:https://www.princewilliamdemocrats.com/event/2024-04-05-10am-kaine-2024-launch-rally-with-senator-tim-kaine-in-alexandria/
CATEGORIES:Virginia Democratic Event
ATTACH;FMTTYPE=image/png:https://www.princewilliamdemocrats.com/wp-content/uploads/2024/03/2024-kaine-2024-launch.png
END:VEVENT
BEGIN:VEVENT
DTSTART;TZID=UTC:20240405T173000
DTEND;TZID=UTC:20240405T193000
DTSTAMP:20260420T000245
CREATED:20240404T152941Z
LAST-MODIFIED:20240404T152941Z
UID:10001816-1712338200-1712345400@www.princewilliamdemocrats.com
SUMMARY:Kaine 2024 Launch: Block Party with Senator Kaine in Dumfries!
DESCRIPTION:More Details: Click Here \nSenator Tim Kaine is launching his 2024 re-election campaign with his “Standing Up for Virginia” tour! And he’ll be hosting a block party in Dumfries on April 5th! \nWith so much at stake\, we need Senator Kaine to keep standing up for Virginia\, as he fights to promote good paying jobs\, protect our democracy\, and safeguard our fundamental rights! \nJoin Senator Kaine\, elected officials\, & community leaders in Dumfries\, and get involved in this historic campaign. Together\, we will re-elect Tim Kaine & help deliver victories for Democrats up and down the ballot in November! \nFurther information will be provided upon RSVP. See you there! \nThe following items are prohibited at the event: backpacks\, large bags\, bicycles\, signs or banners of any kind\, animals other than service/guide animals\, weapons\, toy guns\, firearms\, explosives\, ammunition of any kind\, any other items determined to be potential safety hazards.
URL:https://www.princewilliamdemocrats.com/event/kaine-2024-launch-block-party-with-senator-kaine-in-dumfries/
CATEGORIES:Prince William County Democratic Event
ATTACH;FMTTYPE=image/png:https://www.princewilliamdemocrats.com/wp-content/uploads/2024/04/2024-tim-kaine-dumfries.png
END:VEVENT
END:VCALENDAR