BEGIN:VCALENDAR
VERSION:2.0
PRODID:-//Prince William County Democrats - ECPv6.15.20//NONSGML v1.0//EN
CALSCALE:GREGORIAN
METHOD:PUBLISH
X-ORIGINAL-URL:https://www.princewilliamdemocrats.com
X-WR-CALDESC:Events for Prince William County Democrats
REFRESH-INTERVAL;VALUE=DURATION:PT1H
X-Robots-Tag:noindex
X-PUBLISHED-TTL:PT1H
BEGIN:VTIMEZONE
TZID:UTC
BEGIN:STANDARD
TZOFFSETFROM:+0000
TZOFFSETTO:+0000
TZNAME:UTC
DTSTART:20230101T000000
END:STANDARD
END:VTIMEZONE
BEGIN:VEVENT
DTSTART;TZID=UTC:20240316T090000
DTEND;TZID=UTC:20240316T100000
DTSTAMP:20260420T031209
CREATED:20240315T185526Z
LAST-MODIFIED:20240315T185526Z
UID:10001793-1710579600-1710583200@www.princewilliamdemocrats.com
SUMMARY:Potomac District Monthly Meeting
DESCRIPTION:Please contact Potomac District Leadership for additional details.
URL:https://www.princewilliamdemocrats.com/event/2024-03-16-9am-potomac-district-monthly-meeting/
CATEGORIES:District Meeting
ATTACH;FMTTYPE=image/jpeg:https://www.princewilliamdemocrats.com/wp-content/uploads/2021/02/democratic-monthly-meeting.jpg
END:VEVENT
BEGIN:VEVENT
DTSTART;TZID=UTC:20240316T093000
DTEND;TZID=UTC:20240316T113000
DTSTAMP:20260420T031209
CREATED:20240312T165451Z
LAST-MODIFIED:20240312T165451Z
UID:10001787-1710581400-1710588600@www.princewilliamdemocrats.com
SUMMARY:Woodbridge District Monthly Meeting
DESCRIPTION:Woodridge District Monthly Meeting
URL:https://www.princewilliamdemocrats.com/event/2024-03-16-930am-woodbridge-district-monthly-meeting/
LOCATION:A.J. Ferlazzo Building\, 15941 Donald Curtis Drive\, Woodbridge\, VA\, 22191\, United States
CATEGORIES:District Meeting
ATTACH;FMTTYPE=image/jpeg:https://www.princewilliamdemocrats.com/wp-content/uploads/2021/02/democratic-monthly-meeting.jpg
END:VEVENT
BEGIN:VEVENT
DTSTART;TZID=UTC:20240316T130000
DTEND;TZID=UTC:20240316T150000
DTSTAMP:20260420T031209
CREATED:20240312T182148Z
LAST-MODIFIED:20240312T182148Z
UID:10001788-1710594000-1710601200@www.princewilliamdemocrats.com
SUMMARY:Democratic Primary Candidates for US House Virginia District 10
DESCRIPTION:More Details: Click Here\n\n \n\nHosted by the Loudoun County Democratic Committee so voters can hear directly from the Primary Candidates for U.S. House Virginia District 10.\n\n \n\nThe forum will open with brief introductions from each primary candidate. For the “speed-dating” portion\, a candidate will be seated with voters and one facilitator at each table/group. A facilitator will begin the discussion by asking one pertinent question. Following the candidate’s response\, those seated with the candidate will have the opportunity to ask questions. Each roundtable discussion will last roughly 10 minutes\, after which a bell will notify the candidates to move on to the following table. Candidate answers to each question will be limited to accommodate as many questions as possible. Attendees are asked to maintain civil discourse.\n\n \n\nYour vote counts−the only time your vote doesn’t count is when you don’t vote!\n\n \n\nThe Democratic Primary Election Day for U.S. House Virginia District 10 is June 18\, 2024.
URL:https://www.princewilliamdemocrats.com/event/democratic-primary-candidates-for-us-house-virginia-district-10/
CATEGORIES:Prince William County Democratic Event
ATTACH;FMTTYPE=image/jpeg:https://www.princewilliamdemocrats.com/wp-content/uploads/2024/03/2024-us-house-candidate-forum.jpg
END:VEVENT
BEGIN:VEVENT
DTSTART;TZID=UTC:20240316T130000
DTEND;TZID=UTC:20240316T150000
DTSTAMP:20260420T031209
CREATED:20240316T163639Z
LAST-MODIFIED:20240316T163655Z
UID:10001795-1710594000-1710601200@www.princewilliamdemocrats.com
SUMMARY:Margaret Franklin For Congress Petition Signing Event
DESCRIPTION:
URL:https://www.princewilliamdemocrats.com/event/2024-03-16-1pm-margaret-franklin-for-congress-petition-signing-event/
CATEGORIES:Prince William County Democratic Event
ATTACH;FMTTYPE=image/jpeg:https://www.princewilliamdemocrats.com/wp-content/uploads/2024/03/2024-margaret-franklin-petition-signing-event.jpg
END:VEVENT
END:VCALENDAR