BEGIN:VCALENDAR
VERSION:2.0
PRODID:-//Prince William County Democrats - ECPv6.15.20//NONSGML v1.0//EN
CALSCALE:GREGORIAN
METHOD:PUBLISH
X-WR-CALNAME:Prince William County Democrats
X-ORIGINAL-URL:https://www.princewilliamdemocrats.com
X-WR-CALDESC:Events for Prince William County Democrats
REFRESH-INTERVAL;VALUE=DURATION:PT1H
X-Robots-Tag:noindex
X-PUBLISHED-TTL:PT1H
BEGIN:VTIMEZONE
TZID:UTC
BEGIN:STANDARD
TZOFFSETFROM:+0000
TZOFFSETTO:+0000
TZNAME:UTC
DTSTART:20230101T000000
END:STANDARD
END:VTIMEZONE
BEGIN:VEVENT
DTSTART;TZID=UTC:20240309T160000
DTEND;TZID=UTC:20240309T190000
DTSTAMP:20260420T044122
CREATED:20240222T012642Z
LAST-MODIFIED:20240222T013205Z
UID:10001469-1710000000-1710010800@www.princewilliamdemocrats.com
SUMMARY:Spotsy Pot Luck Social and Blind Auction with With Time Kaine
DESCRIPTION:
URL:https://www.princewilliamdemocrats.com/event/2024-03-09-4pm-spotsy-pot-luck-social-and-blind-auction-with-with-time-kaine/
CATEGORIES:Virginia Democratic Event
ATTACH;FMTTYPE=image/png:https://www.princewilliamdemocrats.com/wp-content/uploads/2024/02/virginia-cd7-spotsy-event-tim-kaine.png
END:VEVENT
END:VCALENDAR