BEGIN:VCALENDAR
VERSION:2.0
PRODID:-//Prince William County Democrats - ECPv6.15.20//NONSGML v1.0//EN
CALSCALE:GREGORIAN
METHOD:PUBLISH
X-WR-CALNAME:Prince William County Democrats
X-ORIGINAL-URL:https://www.princewilliamdemocrats.com
X-WR-CALDESC:Events for Prince William County Democrats
REFRESH-INTERVAL;VALUE=DURATION:PT1H
X-Robots-Tag:noindex
X-PUBLISHED-TTL:PT1H
BEGIN:VTIMEZONE
TZID:UTC
BEGIN:STANDARD
TZOFFSETFROM:+0000
TZOFFSETTO:+0000
TZNAME:UTC
DTSTART:20230101T000000
END:STANDARD
END:VTIMEZONE
BEGIN:VEVENT
DTSTART;TZID=UTC:20240304T193000
DTEND;TZID=UTC:20240304T210000
DTSTAMP:20260420T031125
CREATED:20240229T024622Z
LAST-MODIFIED:20240229T024703Z
UID:10001779-1709580600-1709586000@www.princewilliamdemocrats.com
SUMMARY:PWCDC Precinct Operations Meeting
DESCRIPTION:
URL:https://www.princewilliamdemocrats.com/event/2024-03-04-730pm-pwcdc-precinct-operations-meeting/
LOCATION:McCoart\, 1 County Complex Ct\, Woodbridge\, VA\, 22192\, United States
CATEGORIES:District Meeting
ATTACH;FMTTYPE=image/jpeg:https://www.princewilliamdemocrats.com/wp-content/uploads/2021/02/democratic-monthly-meeting.jpg
END:VEVENT
END:VCALENDAR