BEGIN:VCALENDAR
VERSION:2.0
PRODID:-//Prince William County Democrats - ECPv6.15.20//NONSGML v1.0//EN
CALSCALE:GREGORIAN
METHOD:PUBLISH
X-WR-CALNAME:Prince William County Democrats
X-ORIGINAL-URL:https://www.princewilliamdemocrats.com
X-WR-CALDESC:Events for Prince William County Democrats
REFRESH-INTERVAL;VALUE=DURATION:PT1H
X-Robots-Tag:noindex
X-PUBLISHED-TTL:PT1H
BEGIN:VTIMEZONE
TZID:UTC
BEGIN:STANDARD
TZOFFSETFROM:+0000
TZOFFSETTO:+0000
TZNAME:UTC
DTSTART:20230101T000000
END:STANDARD
END:VTIMEZONE
BEGIN:VEVENT
DTSTART;TZID=UTC:20240303T130000
DTEND;TZID=UTC:20240303T150000
DTSTAMP:20260420T044125
CREATED:20240303T211500Z
LAST-MODIFIED:20240303T211500Z
UID:10001782-1709470800-1709478000@www.princewilliamdemocrats.com
SUMMARY:Margaret Franklin For Congress Petition Drive
DESCRIPTION:You heard it right! I’m running for Congress in Virginia’s 7th Congressional District! Please come out on Sunday between 1-3pm to sign my petition to help me get on the ballot!\n\n\nIt only takes a few mins to sign and is the first step towards victory!\n\n\nRight now\, out of 8 candidates\, we’re number 2 in fundraising and looking to keep the momentum going! Come out and sign our petition and feel free to donate at www.margaretforvirginia.com!
URL:https://www.princewilliamdemocrats.com/event/2024-03-03-1pm-margaret-franklin-for-congress-petition-drive/
CATEGORIES:Prince William County Democratic Event
ATTACH;FMTTYPE=image/jpeg:https://www.princewilliamdemocrats.com/wp-content/uploads/2024/03/2024-margaret-franklin-petition-drive.jpg
END:VEVENT
BEGIN:VEVENT
DTSTART;TZID=UTC:20240303T190000
DTEND;TZID=UTC:20240303T203000
DTSTAMP:20260420T044125
CREATED:20240303T150030Z
LAST-MODIFIED:20240303T150048Z
UID:10001780-1709492400-1709497800@www.princewilliamdemocrats.com
SUMMARY:PWCDC - Labor Committee Meeting
DESCRIPTION:
URL:https://www.princewilliamdemocrats.com/event/2024-03-03-7pm-pwcdc-labor-committee-meeting/
LOCATION:Virtual Event
CATEGORIES:District Meeting
ATTACH;FMTTYPE=image/jpeg:https://www.princewilliamdemocrats.com/wp-content/uploads/2021/02/democratic-monthly-meeting.jpg
END:VEVENT
END:VCALENDAR