BEGIN:VCALENDAR
VERSION:2.0
PRODID:-//Prince William County Democrats - ECPv6.15.20//NONSGML v1.0//EN
CALSCALE:GREGORIAN
METHOD:PUBLISH
X-WR-CALNAME:Prince William County Democrats
X-ORIGINAL-URL:https://www.princewilliamdemocrats.com
X-WR-CALDESC:Events for Prince William County Democrats
REFRESH-INTERVAL;VALUE=DURATION:PT1H
X-Robots-Tag:noindex
X-PUBLISHED-TTL:PT1H
BEGIN:VTIMEZONE
TZID:UTC
BEGIN:STANDARD
TZOFFSETFROM:+0000
TZOFFSETTO:+0000
TZNAME:UTC
DTSTART:20230101T000000
END:STANDARD
END:VTIMEZONE
BEGIN:VEVENT
DTSTART;TZID=UTC:20240222T190000
DTEND;TZID=UTC:20240222T210000
DTSTAMP:20260420T044049
CREATED:20240222T013142Z
LAST-MODIFIED:20240222T013142Z
UID:10001471-1708628400-1708635600@www.princewilliamdemocrats.com
SUMMARY:CD7 Candidate Open House
DESCRIPTION:District Event: CD7 Candidate Open House\, February 22\n\n\nThe CD7 Democratic Committee will be hosting a virtual congressional candidate “open house” on February 22 at 7pm.\n\nZoom Link for 2/22/24\, 7pm Candidate Open House: \nhttps://us02web.zoom.us/meeting/register/tZYsdOyopjwjHtOzWW3frjL5w5WvOFR3x7K9\n\n\nThe idea is to give candidates the opportunity to introduce themselves and take questions. THIS IS NOT A DEBATE. Once we know who will join us\, we will iron out a few remaining details. We would like to provide individual candidates with about 8 minutes to speak and about 5 minutes for a couple of questions. The event should last about 2 hours. Each candidate will have their time to speak/take questions and then we will move on to the next candidate and so on.
URL:https://www.princewilliamdemocrats.com/event/2024-02-7pm-cd7-candidate-open-house/
CATEGORIES:Virginia Democratic Event
END:VEVENT
END:VCALENDAR