BEGIN:VCALENDAR
VERSION:2.0
PRODID:-//Prince William County Democrats - ECPv6.15.20//NONSGML v1.0//EN
CALSCALE:GREGORIAN
METHOD:PUBLISH
X-ORIGINAL-URL:https://www.princewilliamdemocrats.com
X-WR-CALDESC:Events for Prince William County Democrats
REFRESH-INTERVAL;VALUE=DURATION:PT1H
X-Robots-Tag:noindex
X-PUBLISHED-TTL:PT1H
BEGIN:VTIMEZONE
TZID:UTC
BEGIN:STANDARD
TZOFFSETFROM:+0000
TZOFFSETTO:+0000
TZNAME:UTC
DTSTART:20230101T000000
END:STANDARD
END:VTIMEZONE
BEGIN:VEVENT
DTSTART;TZID=UTC:20240217T180000
DTEND;TZID=UTC:20240217T200000
DTSTAMP:20260420T044116
CREATED:20240204T233234Z
LAST-MODIFIED:20240204T233234Z
UID:10001758-1708192800-1708200000@www.princewilliamdemocrats.com
SUMMARY:Potomac Valentine Event - Meet The Candidates
DESCRIPTION:For More Details: Click Here
URL:https://www.princewilliamdemocrats.com/event/2024-02-17-6pm-potomac-valentine-event-meet-the-candidates/
CATEGORIES:Prince William County Democratic Event
ATTACH;FMTTYPE=image/png:https://www.princewilliamdemocrats.com/wp-content/uploads/2024/01/potomac-meet-candidates-valentines-event.png
END:VEVENT
END:VCALENDAR