BEGIN:VCALENDAR
VERSION:2.0
PRODID:-//Prince William County Democrats - ECPv6.15.20//NONSGML v1.0//EN
CALSCALE:GREGORIAN
METHOD:PUBLISH
X-ORIGINAL-URL:https://www.princewilliamdemocrats.com
X-WR-CALDESC:Events for Prince William County Democrats
REFRESH-INTERVAL;VALUE=DURATION:PT1H
X-Robots-Tag:noindex
X-PUBLISHED-TTL:PT1H
BEGIN:VTIMEZONE
TZID:UTC
BEGIN:STANDARD
TZOFFSETFROM:+0000
TZOFFSETTO:+0000
TZNAME:UTC
DTSTART:20230101T000000
END:STANDARD
END:VTIMEZONE
BEGIN:VEVENT
DTSTART;TZID=UTC:20240201T190000
DTEND;TZID=UTC:20240201T200000
DTSTAMP:20260420T044110
CREATED:20240122T204203Z
LAST-MODIFIED:20240131T205947Z
UID:10001747-1706814000-1706817600@www.princewilliamdemocrats.com
SUMMARY:PWC Democratic Monthly Meeting - Hybrid
DESCRIPTION:PWC DEMS is inviting you to a scheduled HYBRID In-Person and Zoom meeting. \nTopic: PWCDC Monthly Membership Meeting\nTime: Feb 1\, 2024 07:00 PM Eastern Time (US and Canada) \nLocation: Kelly Leadership Building 14715 Bristow Rd\, Manassas\, VA 20112 · Room 1101\nOr:\nJoin Zoom Meeting\nhttps://us06web.zoom.us/j/86421334005?pwd=9hHNx8z8jakHLdMGGvena7VuPLLsca.1
URL:https://www.princewilliamdemocrats.com/event/2024-02-01-7pm-pwc-democratic-monthly-meeting/
LOCATION:Edward L. Kelly Leadership Center\, 14715 Bristow Rd.\, Manassas\, VA\, 20112\, United States
CATEGORIES:District Meeting
ATTACH;FMTTYPE=image/jpeg:https://www.princewilliamdemocrats.com/wp-content/uploads/2021/02/democratic-monthly-meeting.jpg
END:VEVENT
END:VCALENDAR