BEGIN:VCALENDAR
VERSION:2.0
PRODID:-//Prince William County Democrats - ECPv6.15.20//NONSGML v1.0//EN
CALSCALE:GREGORIAN
METHOD:PUBLISH
X-WR-CALNAME:Prince William County Democrats
X-ORIGINAL-URL:https://www.princewilliamdemocrats.com
X-WR-CALDESC:Events for Prince William County Democrats
REFRESH-INTERVAL;VALUE=DURATION:PT1H
X-Robots-Tag:noindex
X-PUBLISHED-TTL:PT1H
BEGIN:VTIMEZONE
TZID:UTC
BEGIN:STANDARD
TZOFFSETFROM:+0000
TZOFFSETTO:+0000
TZNAME:UTC
DTSTART:20230101T000000
END:STANDARD
END:VTIMEZONE
BEGIN:VEVENT
DTSTART;TZID=UTC:20240113T100000
DTEND;TZID=UTC:20240113T120000
DTSTAMP:20260420T075101
CREATED:20240102T004724Z
LAST-MODIFIED:20240102T004724Z
UID:10001743-1705140000-1705147200@www.princewilliamdemocrats.com
SUMMARY:PWCDC - Neabsco Magisterial District Reorganization
DESCRIPTION:Happy New Year Neabsco Magisterial District Residents\n\nApplication Forms: Click Here\n* The Call to Caucus to Reorganize the Neabsco District Democratic Committee\n* Membership Filing Form for the Neabsco District Democratic Committee\n* Neabsco District Democratic Committee Officer Filing Form\n\nThese are the only documents that you will need to complete to participate in the Neabsco District reorganization. Even if you have completed these documents previously\, PLEASE COMPLETE THE DOCUMENTS AGAIN and forward to NeabscoReorg@gmail.com\n\nYOU MUST COMPLETE AND FORWARD YOUR APPLICATION TO PARTICIPATE IN THE REORGANIZATION\n\nThe reorganization caucus will occur on Saturday\, January 13\, 2024 beginning at 10:00 AM at the A.J. Ferlazzo Building at 15941 Donald Curtis Drive\, Woodbridge\, VA 22191 (and via Zoom\, please email for Zoom Link).\n\n\nNeabsco Magisterial District Special Committee\nNeabscoReorg@gmail.com
URL:https://www.princewilliamdemocrats.com/event/2024-01-13-10am-pwcdc-neabsco-magisterial-district-reorganization/
LOCATION:A.J. Ferlazzo Building\, 15941 Donald Curtis Drive\, Woodbridge\, VA\, 22191\, United States
CATEGORIES:District Meeting
ATTACH;FMTTYPE=image/jpeg:https://www.princewilliamdemocrats.com/wp-content/uploads/2023/05/pwc-democrats-mobilize.jpg
END:VEVENT
END:VCALENDAR