BEGIN:VCALENDAR
VERSION:2.0
PRODID:-//Prince William County Democrats - ECPv6.15.20//NONSGML v1.0//EN
CALSCALE:GREGORIAN
METHOD:PUBLISH
X-WR-CALNAME:Prince William County Democrats
X-ORIGINAL-URL:https://www.princewilliamdemocrats.com
X-WR-CALDESC:Events for Prince William County Democrats
REFRESH-INTERVAL;VALUE=DURATION:PT1H
X-Robots-Tag:noindex
X-PUBLISHED-TTL:PT1H
BEGIN:VTIMEZONE
TZID:UTC
BEGIN:STANDARD
TZOFFSETFROM:+0000
TZOFFSETTO:+0000
TZNAME:UTC
DTSTART:20230101T000000
END:STANDARD
END:VTIMEZONE
BEGIN:VEVENT
DTSTART;TZID=UTC:20240109T140000
DTEND;TZID=UTC:20240109T170000
DTSTAMP:20260420T075059
CREATED:20240102T032433Z
LAST-MODIFIED:20240102T032433Z
UID:10001744-1704808800-1704819600@www.princewilliamdemocrats.com
SUMMARY:Board of County Supervisors Meeting - Organizational Meeting
DESCRIPTION:Board Of County Supervisors –  PWC Website (More Info Click Here) \n\nMeetings are at 2pm and 7:30pm (times and dates may change\, please check link above and agenda)\n\nSign Up To Speak (More Info Click Here) \n*Note: To sign up to speak virtually the deadline is the day before the meeting (Monday) at 5pm\, if you attend the meeting in person you can sign up the day of. \nPage Resources Include The Following \n\nLive Video\, Brief & Archives (More Info Click Here)\n\nBoard Agenda\nAgenda\nBriefs\nVideo Podcast\nArchive\n\n\nCurrent Agenda\nSpeak Up! Prince William\nMeeting Schedule\nDistrict Map\nRules of Procedures\nStatement of Economic Interest\nSign Up for eNotifications\nWho are Your Elected Officials\n\n*Because changes can occur\, please navigate to the above links for the most up to date times\, locations\, agendas and details about meetings.
URL:https://www.princewilliamdemocrats.com/event/2024-01-09-2pm-board-of-county-supervisors-meeting-organizational-meeting/
LOCATION:McCoart\, 1 County Complex Ct\, Woodbridge\, VA\, 22192\, United States
CATEGORIES:PWC Board of County Supervisors Meeting
ATTACH;FMTTYPE=image/png:https://www.princewilliamdemocrats.com/wp-content/uploads/2021/03/pwc-bocs-meetings.png
END:VEVENT
END:VCALENDAR