BEGIN:VCALENDAR
VERSION:2.0
PRODID:-//Prince William County Democrats - ECPv6.15.20//NONSGML v1.0//EN
CALSCALE:GREGORIAN
METHOD:PUBLISH
X-ORIGINAL-URL:https://www.princewilliamdemocrats.com
X-WR-CALDESC:Events for Prince William County Democrats
REFRESH-INTERVAL;VALUE=DURATION:PT1H
X-Robots-Tag:noindex
X-PUBLISHED-TTL:PT1H
BEGIN:VTIMEZONE
TZID:UTC
BEGIN:STANDARD
TZOFFSETFROM:+0000
TZOFFSETTO:+0000
TZNAME:UTC
DTSTART:20220101T000000
END:STANDARD
END:VTIMEZONE
BEGIN:VEVENT
DTSTART;TZID=UTC:20231021T090000
DTEND;TZID=UTC:20231021T110000
DTSTAMP:20260420T155349
CREATED:20231020T182736Z
LAST-MODIFIED:20231020T182931Z
UID:10001439-1697878800-1697886000@www.princewilliamdemocrats.com
SUMMARY:March With Us On Haymarket Day
DESCRIPTION:EVENT TOMORROW: Come march with PWCDC in the 2023 Haymarket Day Parade Sat\, 10/21!\n\n\nThe Gainesville Magisterial District Democratic Committee & Prince William County Brentsville District Democratic Committee invite you to join in the fun at the annual Haymarket Day Parade Saturday\, October 21st \n\n\nParade RSVP + Volunteer Booth sign ups:\nhttps://www.mobilize.us/princewilliamcountydemocraticcommittee/event/581873/
URL:https://www.princewilliamdemocrats.com/event/2023-10-21-march-with-us-on-haymarket-day/
CATEGORIES:Prince William County Democratic Event
ATTACH;FMTTYPE=image/jpeg:https://www.princewilliamdemocrats.com/wp-content/uploads/2023/10/2023-pwcdc-haymarket-day.jpg
END:VEVENT
BEGIN:VEVENT
DTSTART;TZID=UTC:20231021T100000
DTEND;TZID=UTC:20231021T110000
DTSTAMP:20260420T155349
CREATED:20230928T023921Z
LAST-MODIFIED:20230928T023955Z
UID:10001730-1697882400-1697886000@www.princewilliamdemocrats.com
SUMMARY:Potomac District Monthly Meeting
DESCRIPTION:Please contact Potomac District Leadership for additional details.
URL:https://www.princewilliamdemocrats.com/event/2023-10-21-10am-potomac-district-monthly-meeting-3/
LOCATION:Virtual Event
CATEGORIES:District Meeting
ATTACH;FMTTYPE=image/jpeg:https://www.princewilliamdemocrats.com/wp-content/uploads/2021/02/democratic-monthly-meeting.jpg
END:VEVENT
BEGIN:VEVENT
DTSTART;TZID=UTC:20231021T100000
DTEND;TZID=UTC:20231021T110000
DTSTAMP:20260420T155349
CREATED:20230928T024317Z
LAST-MODIFIED:20230928T024317Z
UID:10001731-1697882400-1697886000@www.princewilliamdemocrats.com
SUMMARY:Woodbridge District Monthly Meeting
DESCRIPTION:Woodridge District Monthly Meeting
URL:https://www.princewilliamdemocrats.com/event/2023-10-21-10am-woodbridge-district-monthly-meeting-2/
LOCATION:Virtual Event
CATEGORIES:District Meeting
ATTACH;FMTTYPE=image/jpeg:https://www.princewilliamdemocrats.com/wp-content/uploads/2021/02/democratic-monthly-meeting.jpg
END:VEVENT
BEGIN:VEVENT
DTSTART;TZID=UTC:20231021T150000
DTEND;TZID=UTC:20231021T170000
DTSTAMP:20260420T155349
CREATED:20231004T135922Z
LAST-MODIFIED:20231004T140530Z
UID:10001740-1697900400-1697907600@www.princewilliamdemocrats.com
SUMMARY:Briana Sewell for Delegate
DESCRIPTION:On Saturday\, October 21st\, please join us for an in-person fundraiser to support Delegate Briana Sewell\, the Democratic nominee for Delegate in Virginia’s 25th District. \nDATE: Saturday\, October 21\, 2023 \nTIME: 3:00 PM – 5:00 PM \nLOCATION: Address provided upon RSVP* \n*The location will be sent to you before the event. Please contact Team Sewell at info@sewellfordelegate.com with any questions or to join the growing host committee. \nDISCLAIMER: Congressman Gerry Connolly will appear at the event as a special guest. He is not requesting funds or donations. \nhttps://secure.actblue.com/donate/oct212023
URL:https://www.princewilliamdemocrats.com/event/2023-10-21-3pm-briana-sewell-for-delegate/
CATEGORIES:Prince William County Democratic Event
ATTACH;FMTTYPE=image/png:https://www.princewilliamdemocrats.com/wp-content/uploads/2023/10/2023-briana-sewell-for-delegate.png
END:VEVENT
END:VCALENDAR