BEGIN:VCALENDAR
VERSION:2.0
PRODID:-//Prince William County Democrats - ECPv6.15.20//NONSGML v1.0//EN
CALSCALE:GREGORIAN
METHOD:PUBLISH
X-WR-CALNAME:Prince William County Democrats
X-ORIGINAL-URL:https://www.princewilliamdemocrats.com
X-WR-CALDESC:Events for Prince William County Democrats
REFRESH-INTERVAL;VALUE=DURATION:PT1H
X-Robots-Tag:noindex
X-PUBLISHED-TTL:PT1H
BEGIN:VTIMEZONE
TZID:UTC
BEGIN:STANDARD
TZOFFSETFROM:+0000
TZOFFSETTO:+0000
TZNAME:UTC
DTSTART:20220101T000000
END:STANDARD
END:VTIMEZONE
BEGIN:VEVENT
DTSTART;TZID=UTC:20231015T150000
DTEND;TZID=UTC:20231015T170000
DTSTAMP:20260420T154712
CREATED:20231007T120442Z
LAST-MODIFIED:20231014T221324Z
UID:10001741-1697382000-1697389200@www.princewilliamdemocrats.com
SUMMARY:Neabsco Democrats Come Knock and Roll Event
DESCRIPTION:
URL:https://www.princewilliamdemocrats.com/event/2023-10-15-3pm-neabsco-democrats-come-knock-and-roll-event/
CATEGORIES:Prince William County Democratic Event
ATTACH;FMTTYPE=image/png:https://www.princewilliamdemocrats.com/wp-content/uploads/2023/10/neabsco-come-and-knock-and-roll-event.png
END:VEVENT
BEGIN:VEVENT
DTSTART;TZID=UTC:20231015T160000
DTEND;TZID=UTC:20231015T180000
DTSTAMP:20260420T154712
CREATED:20230906T003936Z
LAST-MODIFIED:20230912T023232Z
UID:10001714-1697385600-1697392800@www.princewilliamdemocrats.com
SUMMARY:Andrea Bailey and Kenny Boddye Fundraiser
DESCRIPTION:For More Details: Click Here \nJoin us at a combined fundraiser on October 15th for Andrea Bailey and Kenny Boddye\, with a special guest: Congressman Gerry Connolly!
URL:https://www.princewilliamdemocrats.com/event/2023-10-15-4pm-andrea-bailey-and-kenny-boddye-fundraiser/
CATEGORIES:Prince William County Democratic Event
ATTACH;FMTTYPE=image/png:https://www.princewilliamdemocrats.com/wp-content/uploads/2023/09/2023-fundraiser-kenny-boddye-andrea-bailey-gerry-connolly.png
END:VEVENT
END:VCALENDAR