BEGIN:VCALENDAR
VERSION:2.0
PRODID:-//Prince William County Democrats - ECPv6.15.20//NONSGML v1.0//EN
CALSCALE:GREGORIAN
METHOD:PUBLISH
X-WR-CALNAME:Prince William County Democrats
X-ORIGINAL-URL:https://www.princewilliamdemocrats.com
X-WR-CALDESC:Events for Prince William County Democrats
REFRESH-INTERVAL;VALUE=DURATION:PT1H
X-Robots-Tag:noindex
X-PUBLISHED-TTL:PT1H
BEGIN:VTIMEZONE
TZID:UTC
BEGIN:STANDARD
TZOFFSETFROM:+0000
TZOFFSETTO:+0000
TZNAME:UTC
DTSTART:20220101T000000
END:STANDARD
END:VTIMEZONE
BEGIN:VEVENT
DTSTART;TZID=UTC:20231014T090000
DTEND;TZID=UTC:20231014T100000
DTSTAMP:20260420T154624
CREATED:20230928T022832Z
LAST-MODIFIED:20230928T022832Z
UID:10001728-1697274000-1697277600@www.princewilliamdemocrats.com
SUMMARY:Neabsco District Monthly Meeting
DESCRIPTION:Please contact Neabsco District Leadership for additional details.
URL:https://www.princewilliamdemocrats.com/event/2023-10-09-9am-neabsco-district-monthly-meeting-2/
LOCATION:Virtual Event
CATEGORIES:District Meeting
ATTACH;FMTTYPE=image/jpeg:https://www.princewilliamdemocrats.com/wp-content/uploads/2021/02/democratic-monthly-meeting.jpg
END:VEVENT
BEGIN:VEVENT
DTSTART;TZID=UTC:20231014T180000
DTEND;TZID=UTC:20231014T203000
DTSTAMP:20260420T154624
CREATED:20230918T023508Z
LAST-MODIFIED:20230918T023508Z
UID:10001718-1697306400-1697315400@www.princewilliamdemocrats.com
SUMMARY:Potomac Music Fundraiser
DESCRIPTION:Democratic Fundraiser for Supervisor Andrea Bailey \nand \nPWC School Board Member Justin Wilk \nFor More Details: Click Here
URL:https://www.princewilliamdemocrats.com/event/2023-10-14-6pm-potomac-music-fundraiser/
CATEGORIES:Prince William County Democratic Event
ATTACH;FMTTYPE=image/png:https://www.princewilliamdemocrats.com/wp-content/uploads/2023/09/2023-andrea-and-justin-music-fundraiser-2.png
END:VEVENT
BEGIN:VEVENT
DTSTART;TZID=UTC:20231014T190000
DTEND;TZID=UTC:20231014T210000
DTSTAMP:20260420T154624
CREATED:20231014T223953Z
LAST-MODIFIED:20231014T223953Z
UID:10001433-1697310000-1697317200@www.princewilliamdemocrats.com
SUMMARY:Come Support Deshundra in the Candidate At-Large Forum
DESCRIPTION:Join  us for an exciting event where you can meet the supervisor candidates for PWC! This in-person forum will be held at the Dar Alnoor Islamic Community Center in Manassas\, Virginia\, USA. Don’t miss this opportunity to engage with the candidates and learn about their vision for our community. Come prepared with questions and get ready for a lively discussion. We look forward to seeing you there! \nRSVP: PWC Supervisor Candidate Forum Tickets\, Sat\, Oct 14\, 2023 at 7:00 PM | Eventbrite
URL:https://www.princewilliamdemocrats.com/event/2023-10-14-7pm-come-support-deshundra-in-the-candidate-at-large-forum/
CATEGORIES:Prince William County Democratic Event
ATTACH;FMTTYPE=image/jpeg:https://www.princewilliamdemocrats.com/wp-content/uploads/2023/08/cropped-headshot-jefferson-deshundra-scaled-1.jpg
END:VEVENT
END:VCALENDAR