BEGIN:VCALENDAR
VERSION:2.0
PRODID:-//Prince William County Democrats - ECPv6.15.20//NONSGML v1.0//EN
CALSCALE:GREGORIAN
METHOD:PUBLISH
X-ORIGINAL-URL:https://www.princewilliamdemocrats.com
X-WR-CALDESC:Events for Prince William County Democrats
REFRESH-INTERVAL;VALUE=DURATION:PT1H
X-Robots-Tag:noindex
X-PUBLISHED-TTL:PT1H
BEGIN:VTIMEZONE
TZID:UTC
BEGIN:STANDARD
TZOFFSETFROM:+0000
TZOFFSETTO:+0000
TZNAME:UTC
DTSTART:20220101T000000
END:STANDARD
END:VTIMEZONE
BEGIN:VEVENT
DTSTART;TZID=UTC:20230930T180000
DTEND;TZID=UTC:20230930T200000
DTSTAMP:20260420T154754
CREATED:20230928T012047Z
LAST-MODIFIED:20230928T012700Z
UID:10001721-1696096800-1696104000@www.princewilliamdemocrats.com
SUMMARY:Flip Coles Blue with Idris O'Connor
DESCRIPTION:You’re invited to a Fundraising Event at 6pm on the evening of September 30th to join our Northern Virginia neighbors and local Labor community in supporting Idris O’Connor and his campaign for Coles District Supervisor in Prince William County. The Coles District is one of the last remaining seats in Northern Virginia held by a Republican and we need your help to win this competitive district in November. \nThis event is generously hosted at the residence of Community Leader and former Political Candidate Julius D. “JD” Spain\, Sr. in Arlington. \nHost Committee in formation: Jennifer Carroll Foy and IBEW Local 26. \nRSVP at the following link: https://secure.actblue.com/donate/idrisnova
URL:https://www.princewilliamdemocrats.com/event/2023-09-30-6pm-flip-coles-blue-with-idris-oconnor/
CATEGORIES:Prince William County Democratic Event
ATTACH;FMTTYPE=image/png:https://www.princewilliamdemocrats.com/wp-content/uploads/2023/09/2023-flip-coles-blue-with-idris-oconnor.png
END:VEVENT
END:VCALENDAR