BEGIN:VCALENDAR
VERSION:2.0
PRODID:-//Prince William County Democrats - ECPv6.15.20//NONSGML v1.0//EN
CALSCALE:GREGORIAN
METHOD:PUBLISH
X-WR-CALNAME:Prince William County Democrats
X-ORIGINAL-URL:https://www.princewilliamdemocrats.com
X-WR-CALDESC:Events for Prince William County Democrats
REFRESH-INTERVAL;VALUE=DURATION:PT1H
X-Robots-Tag:noindex
X-PUBLISHED-TTL:PT1H
BEGIN:VTIMEZONE
TZID:UTC
BEGIN:STANDARD
TZOFFSETFROM:+0000
TZOFFSETTO:+0000
TZNAME:UTC
DTSTART:20220101T000000
END:STANDARD
END:VTIMEZONE
BEGIN:VEVENT
DTSTART;TZID=UTC:20230928T180000
DTEND;TZID=UTC:20230928T200000
DTSTAMP:20260420T154710
CREATED:20230928T011251Z
LAST-MODIFIED:20230928T011307Z
UID:10001720-1695924000-1695931200@www.princewilliamdemocrats.com
SUMMARY:Re-Elect Jacqueline Smith for Clerk of Circuit Court
DESCRIPTION:You are invited to a special event in support of Re-Elect Jacqueline Smith\, Clerk of Circuit Court this Thursday\, 9/28! Hosted by Delegate Luke Torian & Ernestine Jenkins.\n\n\nRSVP: https://secure.actblue.com/donate/pwc1\n\n\nSeptember 28th\, 6pm-8pm\nOld Hickory Golf Club: 11921 Chanceford Dr\, Woodbridge\, VA
URL:https://www.princewilliamdemocrats.com/event/2023-09-28-6pm-re-elect-jacqueline-smith-for-clerk-of-circuit-court/
CATEGORIES:Prince William County Democratic Event
ATTACH;FMTTYPE=image/jpeg:https://www.princewilliamdemocrats.com/wp-content/uploads/2023/09/2023-jacqueline-smith-clerk-of-court-event.jpg
END:VEVENT
BEGIN:VEVENT
DTSTART;TZID=UTC:20230928T190000
DTEND;TZID=UTC:20230928T210000
DTSTAMP:20260420T154710
CREATED:20230928T012251Z
LAST-MODIFIED:20230928T012306Z
UID:10001722-1695927600-1695934800@www.princewilliamdemocrats.com
SUMMARY:VA Senate District 30 Candidates Forum
DESCRIPTION:In lieu of our regular PWCDC general meeting this Thursday (9/28)\, we’ll be supporting our PWC Dems at  candidate forums \n\n\n VA Senate District 30 Candidates’ Forum with Danica Roem – Virginia Delegate\nHosted by PW Committee of 100 @ 7pm at Metz Middle School\n(Doors open at 6:30pm)\n Submit questions by 5pm Monday: https://docs.google.com/forms/d/e/1FAIpQLSeeoKQMK2MdGtfxQv-W5rDlLYcq8e4k6sVIZYe9SV1VEUtAUw/viewform\n\n\n Education Town Hall Meeting hosted by Phi Beta Sigma\nSaunders Middle School [13557 Spriggs Road\, Manassas] @ 7-9pm\n Event details:\nhttps://facebook.com/events/s/%CF%86%CE%B2%CF%83-omicron-zeta-sigma-chapter/1008755313812748/\n\n\n Our next PWCDC general meeting will be Thursday\, Oct 5th –– more details soon!
URL:https://www.princewilliamdemocrats.com/event/2023-09-28-7pm-va-senate-district-30-candidates-forum/
CATEGORIES:Prince William County Elections
ATTACH;FMTTYPE=image/jpeg:https://www.princewilliamdemocrats.com/wp-content/uploads/2023/09/2023-va-senate-district-30-candidate-forum.jpg
END:VEVENT
END:VCALENDAR