BEGIN:VCALENDAR
VERSION:2.0
PRODID:-//Prince William County Democrats - ECPv6.15.20//NONSGML v1.0//EN
CALSCALE:GREGORIAN
METHOD:PUBLISH
X-ORIGINAL-URL:https://www.princewilliamdemocrats.com
X-WR-CALDESC:Events for Prince William County Democrats
REFRESH-INTERVAL;VALUE=DURATION:PT1H
X-Robots-Tag:noindex
X-PUBLISHED-TTL:PT1H
BEGIN:VTIMEZONE
TZID:UTC
BEGIN:STANDARD
TZOFFSETFROM:+0000
TZOFFSETTO:+0000
TZNAME:UTC
DTSTART:20220101T000000
END:STANDARD
END:VTIMEZONE
BEGIN:VEVENT
DTSTART;TZID=UTC:20230924T160000
DTEND;TZID=UTC:20230924T180000
DTSTAMP:20260420T171654
CREATED:20230924T160459Z
LAST-MODIFIED:20230924T160459Z
UID:10001719-1695571200-1695578400@www.princewilliamdemocrats.com
SUMMARY:Progress Forward with Delegate Luke Torian\, Senator Tim Kaine and Chair Ann Wheeler
DESCRIPTION:For More Details: \nhttps://www.princewilliamdemocrats.com/events/progress-forward/
URL:https://www.princewilliamdemocrats.com/event/2023-09-24-4pm-progress-forward-with-delegate-luke-torian-senator-tim-kaine-and-chair-ann-wheeler/
CATEGORIES:Prince William County Democratic Event
ATTACH;FMTTYPE=image/png:https://www.princewilliamdemocrats.com/wp-content/uploads/2023/09/2023-progress-forward-fundraiser.png
END:VEVENT
END:VCALENDAR