BEGIN:VCALENDAR
VERSION:2.0
PRODID:-//Prince William County Democrats - ECPv6.15.20//NONSGML v1.0//EN
CALSCALE:GREGORIAN
METHOD:PUBLISH
X-ORIGINAL-URL:https://www.princewilliamdemocrats.com
X-WR-CALDESC:Events for Prince William County Democrats
REFRESH-INTERVAL;VALUE=DURATION:PT1H
X-Robots-Tag:noindex
X-PUBLISHED-TTL:PT1H
BEGIN:VTIMEZONE
TZID:UTC
BEGIN:STANDARD
TZOFFSETFROM:+0000
TZOFFSETTO:+0000
TZNAME:UTC
DTSTART:20220101T000000
END:STANDARD
END:VTIMEZONE
BEGIN:VEVENT
DTSTART;TZID=UTC:20230923T170000
DTEND;TZID=UTC:20230923T190000
DTSTAMP:20260420T171652
CREATED:20230918T022448Z
LAST-MODIFIED:20230918T023050Z
UID:10001717-1695488400-1695495600@www.princewilliamdemocrats.com
SUMMARY:Potomac Celebrating Hispanic Heritage Month
DESCRIPTION:Celebrating Hispanic Heritage Month with \nCandidate for PWC Chair Deshundra Jefferson and PWC School Board Member Justin Wilk \nwith Special Guest Supervisor Andrea Bailey Hosted by Delegate Elizabeth Guzman \nFor More Details: Click Here 
URL:https://www.princewilliamdemocrats.com/event/2023-09-23-5pm-potomac-celebrating-hispanic-heritage-month/
CATEGORIES:Prince William County Democratic Event
ATTACH;FMTTYPE=image/png:https://www.princewilliamdemocrats.com/wp-content/uploads/2023/09/2023-hispanic-heritage-month-with-deshundra-and-justin-fundraiser-2.png
END:VEVENT
END:VCALENDAR