BEGIN:VCALENDAR
VERSION:2.0
PRODID:-//Prince William County Democrats - ECPv6.15.20//NONSGML v1.0//EN
CALSCALE:GREGORIAN
METHOD:PUBLISH
X-WR-CALNAME:Prince William County Democrats
X-ORIGINAL-URL:https://www.princewilliamdemocrats.com
X-WR-CALDESC:Events for Prince William County Democrats
REFRESH-INTERVAL;VALUE=DURATION:PT1H
X-Robots-Tag:noindex
X-PUBLISHED-TTL:PT1H
BEGIN:VTIMEZONE
TZID:UTC
BEGIN:STANDARD
TZOFFSETFROM:+0000
TZOFFSETTO:+0000
TZNAME:UTC
DTSTART:20220101T000000
END:STANDARD
END:VTIMEZONE
BEGIN:VEVENT
DTSTART;TZID=UTC:20230917T150000
DTEND;TZID=UTC:20230917T170000
DTSTAMP:20260420T171519
CREATED:20230901T015409Z
LAST-MODIFIED:20230912T015701Z
UID:10001715-1694962800-1694970000@www.princewilliamdemocrats.com
SUMMARY:BBQ Fundraiser with Andrea Bailey and Amy Ashworth
DESCRIPTION:We would like to invite you to an event in support of Supervisor Andrea Bailey and Commonwealth Attorney Amy Ashworth\, who are each running to continue representing our values in the county government. The event will be at the VFW Post 1503 on September 17th at 3 pm. \nIf you are interested\, please RSVP by donating at our link: https://secure.actblue.com/donate/bbqforab-aa
URL:https://www.princewilliamdemocrats.com/event/2023-09-17-3pm-bbq-fundraiser-with-andrea-bailey-and-amy-ashworth/
CATEGORIES:Prince William County Democratic Event
ATTACH;FMTTYPE=image/png:https://www.princewilliamdemocrats.com/wp-content/uploads/2023/09/2023-bbq-fundraiser-with-andrea-bailey-amy-ashworth.png
END:VEVENT
END:VCALENDAR