BEGIN:VCALENDAR
VERSION:2.0
PRODID:-//Prince William County Democrats - ECPv6.15.20//NONSGML v1.0//EN
CALSCALE:GREGORIAN
METHOD:PUBLISH
X-WR-CALNAME:Prince William County Democrats
X-ORIGINAL-URL:https://www.princewilliamdemocrats.com
X-WR-CALDESC:Events for Prince William County Democrats
REFRESH-INTERVAL;VALUE=DURATION:PT1H
X-Robots-Tag:noindex
X-PUBLISHED-TTL:PT1H
BEGIN:VTIMEZONE
TZID:UTC
BEGIN:STANDARD
TZOFFSETFROM:+0000
TZOFFSETTO:+0000
TZNAME:UTC
DTSTART:20220101T000000
END:STANDARD
END:VTIMEZONE
BEGIN:VEVENT
DTSTART;TZID=UTC:20230911T190000
DTEND;TZID=UTC:20230911T200000
DTSTAMP:20260420T171534
CREATED:20230905T192359Z
LAST-MODIFIED:20230905T192415Z
UID:10001711-1694458800-1694462400@www.princewilliamdemocrats.com
SUMMARY:Gainesville District Monthly Meeting
DESCRIPTION:Please contact Gainesville District Leadership for additional details.
URL:https://www.princewilliamdemocrats.com/event/2023-09-11-7pm-gainesville-district-monthly-meeting/
LOCATION:Virtual Event
CATEGORIES:District Meeting
ATTACH;FMTTYPE=image/jpeg:https://www.princewilliamdemocrats.com/wp-content/uploads/2021/02/democratic-monthly-meeting.jpg
END:VEVENT
BEGIN:VEVENT
DTSTART;TZID=UTC:20230911T190000
DTEND;TZID=UTC:20230911T200000
DTSTAMP:20260420T171534
CREATED:20230912T021519Z
LAST-MODIFIED:20230912T021519Z
UID:10001716-1694458800-1694462400@www.princewilliamdemocrats.com
SUMMARY:Prince William Committee of 100 - Prince William County  School Board Chair At-Large  Candidates' Forum Webinar
DESCRIPTION:Tune in at 7PM using the link below.\nConnect to the webinar by using the link provided below to watch Candidates Caroline M. “Carrie” Rist\, Babur B. Lateef (Incumbent) and Kimberly B. Mehlman-Orozco answer questions about their goals for the office of Chair-At-Large of the Prince William County School Board. Questions have been submitted by the PWC100 members and reviewed for accuracy\, redundancy and format by the PWC100 Questions Committee. Each candidate will be given an opportunity to respond to each question asked by the moderator. \nThe Moderator\, Jill Palmero\, Managing Editor of Prince William Times\, will receive the selected questions before the Webinar begins and will ask them of the Candidates \nSubmit Your Questions for the Candidates\nBy Saturday\, 10:00 AM.\nDo you have questions that you would the candidates to respond to? You are welcome to submit your questions for consideration by our Questions Committee. Send your request to Secretary Sherry Zachry by 10 AM on Saturday\, September 9\, 2023. \nSee the PWC100 Questions Process here. \nViewers will not be able to ask questions during the Webinar.
URL:https://www.princewilliamdemocrats.com/event/2023-09-11-7pm-prince-william-committee-of-100-prince-william-county-school-board-chair-at-large-candidates-forum-webinar/
CATEGORIES:Prince William County Event
ATTACH;FMTTYPE=image/png:https://www.princewilliamdemocrats.com/wp-content/uploads/2023/09/2023-prince-william-county-of-100.png
END:VEVENT
BEGIN:VEVENT
DTSTART;TZID=UTC:20230911T193000
DTEND;TZID=UTC:20230911T203000
DTSTAMP:20260420T171534
CREATED:20230905T192843Z
LAST-MODIFIED:20230905T192922Z
UID:10001404-1694460600-1694464200@www.princewilliamdemocrats.com
SUMMARY:Occoquan District Monthly Meeting
DESCRIPTION:Please contact Occoquan District Leadership for additional details.
URL:https://www.princewilliamdemocrats.com/event/2023-09-11-730pm-occoquan-district-monthly-meeting/
LOCATION:Virtual Event
CATEGORIES:District Meeting
ATTACH;FMTTYPE=image/jpeg:https://www.princewilliamdemocrats.com/wp-content/uploads/2021/02/democratic-monthly-meeting.jpg
END:VEVENT
END:VCALENDAR