BEGIN:VCALENDAR
VERSION:2.0
PRODID:-//Prince William County Democrats - ECPv6.15.20//NONSGML v1.0//EN
CALSCALE:GREGORIAN
METHOD:PUBLISH
X-ORIGINAL-URL:https://www.princewilliamdemocrats.com
X-WR-CALDESC:Events for Prince William County Democrats
REFRESH-INTERVAL;VALUE=DURATION:PT1H
X-Robots-Tag:noindex
X-PUBLISHED-TTL:PT1H
BEGIN:VTIMEZONE
TZID:UTC
BEGIN:STANDARD
TZOFFSETFROM:+0000
TZOFFSETTO:+0000
TZNAME:UTC
DTSTART:20220101T000000
END:STANDARD
END:VTIMEZONE
BEGIN:VEVENT
DTSTART;TZID=UTC:20230908T173000
DTEND;TZID=UTC:20230908T193000
DTSTAMP:20260420T171609
CREATED:20230906T002535Z
LAST-MODIFIED:20230906T002535Z
UID:10001713-1694194200-1694201400@www.princewilliamdemocrats.com
SUMMARY:Women for King Event
DESCRIPTION:For More Details: Click Here \nSave the Date! \nWomen for King Event \nAt the home of Kara and Scott Pitek \nSeptember 8\, 2023 \n5:30-7:30 \n 
URL:https://www.princewilliamdemocrats.com/event/2023-09-08-530pm-women-for-king-event/
CATEGORIES:Prince William County Democratic Event
ATTACH;FMTTYPE=image/jpeg:https://www.princewilliamdemocrats.com/wp-content/uploads/2023/09/2023-women-for-king-fundraiser.jpg
END:VEVENT
END:VCALENDAR