BEGIN:VCALENDAR
VERSION:2.0
PRODID:-//Prince William County Democrats - ECPv6.15.20//NONSGML v1.0//EN
CALSCALE:GREGORIAN
METHOD:PUBLISH
X-WR-CALNAME:Prince William County Democrats
X-ORIGINAL-URL:https://www.princewilliamdemocrats.com
X-WR-CALDESC:Events for Prince William County Democrats
REFRESH-INTERVAL;VALUE=DURATION:PT1H
X-Robots-Tag:noindex
X-PUBLISHED-TTL:PT1H
BEGIN:VTIMEZONE
TZID:UTC
BEGIN:STANDARD
TZOFFSETFROM:+0000
TZOFFSETTO:+0000
TZNAME:UTC
DTSTART:20220101T000000
END:STANDARD
END:VTIMEZONE
BEGIN:VEVENT
DTSTART;TZID=UTC:20230825T190000
DTEND;TZID=UTC:20230825T203000
DTSTAMP:20260420T185229
CREATED:20230818T012226Z
LAST-MODIFIED:20230818T012226Z
UID:10001703-1692990000-1692995400@www.princewilliamdemocrats.com
SUMMARY:Commonwealth's Attorney Candidates Forum
DESCRIPTION:AT\nMetz Middle School\n(Manassas Public Schools)\n9950 Wellington Rd\nManassas\, VA 20110\nClick on underlined text for Google Map\nhttps://www.mcpsva.org/metzms\n\n\n\n\nModerated by Dr. Stephen Farnsworth\, Director\, Center for Leadership and Media Studies\, University of Mary Washington\n\nSee information about the candidates (including bios) and\nforum on the PW C100 website HERE\n\n*Incumbent.\nCandidates are listed as they will appear on the Nov. 7\, 2023 Ballot\, as determined by VA Department of Elections.
URL:https://www.princewilliamdemocrats.com/event/2023-08-25-7pm-commonwealths-attorney-candidates-forum/
ATTACH;FMTTYPE=image/jpeg:https://www.princewilliamdemocrats.com/wp-content/uploads/2023/08/cropped-headshot-amy-ashworth-scaled-1.jpeg
END:VEVENT
END:VCALENDAR