BEGIN:VCALENDAR
VERSION:2.0
PRODID:-//Prince William County Democrats - ECPv6.15.20//NONSGML v1.0//EN
CALSCALE:GREGORIAN
METHOD:PUBLISH
X-WR-CALNAME:Prince William County Democrats
X-ORIGINAL-URL:https://www.princewilliamdemocrats.com
X-WR-CALDESC:Events for Prince William County Democrats
REFRESH-INTERVAL;VALUE=DURATION:PT1H
X-Robots-Tag:noindex
X-PUBLISHED-TTL:PT1H
BEGIN:VTIMEZONE
TZID:UTC
BEGIN:STANDARD
TZOFFSETFROM:+0000
TZOFFSETTO:+0000
TZNAME:UTC
DTSTART:20220101T000000
END:STANDARD
END:VTIMEZONE
BEGIN:VEVENT
DTSTART;TZID=UTC:20230823T180000
DTEND;TZID=UTC:20230823T203000
DTSTAMP:20260420T185230
CREATED:20230818T011410Z
LAST-MODIFIED:20230818T011410Z
UID:10001702-1692813600-1692822600@www.princewilliamdemocrats.com
SUMMARY:Andrea Bailey Meet and Greet
DESCRIPTION:Join Eric and Donna Fagerholm for an evening with Andrea Bailey.\nRSVP:  https://secure.actblue.com/donate/ericanddonna
URL:https://www.princewilliamdemocrats.com/event/2023-08-23-6pm-andrea-bailey-meet-and-greet/
CATEGORIES:Prince William County Democratic Event
ATTACH;FMTTYPE=image/jpeg:https://www.princewilliamdemocrats.com/wp-content/uploads/2023/08/2023-andrea-bailey-meet-and-greet.jpg
END:VEVENT
BEGIN:VEVENT
DTSTART;TZID=UTC:20230823T190000
DTEND;TZID=UTC:20230823T200000
DTSTAMP:20260420T185230
CREATED:20230802T112719Z
LAST-MODIFIED:20230802T112719Z
UID:10001382-1692817200-1692820800@www.princewilliamdemocrats.com
SUMMARY:Democratic Women's Caucus Monthly Meeting
DESCRIPTION:Please contact Democratic Women’s Caucus Leadership for additional detail
URL:https://www.princewilliamdemocrats.com/event/2023-8-23-7pm-democratic-womens-caucus-monthly-meeting/
LOCATION:Virtual Event
CATEGORIES:PWC Democratic Women's Event
ATTACH;FMTTYPE=image/jpeg:https://www.princewilliamdemocrats.com/wp-content/uploads/2021/02/prince-william-county-democratic-womens-caucus-e1613424539900.jpg
END:VEVENT
END:VCALENDAR