BEGIN:VCALENDAR
VERSION:2.0
PRODID:-//Prince William County Democrats - ECPv6.15.20//NONSGML v1.0//EN
CALSCALE:GREGORIAN
METHOD:PUBLISH
X-WR-CALNAME:Prince William County Democrats
X-ORIGINAL-URL:https://www.princewilliamdemocrats.com
X-WR-CALDESC:Events for Prince William County Democrats
REFRESH-INTERVAL;VALUE=DURATION:PT1H
X-Robots-Tag:noindex
X-PUBLISHED-TTL:PT1H
BEGIN:VTIMEZONE
TZID:UTC
BEGIN:STANDARD
TZOFFSETFROM:+0000
TZOFFSETTO:+0000
TZNAME:UTC
DTSTART:20220101T000000
END:STANDARD
END:VTIMEZONE
BEGIN:VEVENT
DTSTART;TZID=UTC:20230816T100000
DTEND;TZID=UTC:20230816T120000
DTSTAMP:20260420T185230
CREATED:20230818T005352Z
LAST-MODIFIED:20230818T011105Z
UID:10001701-1692180000-1692187200@www.princewilliamdemocrats.com
SUMMARY:Labor Fundraiser for Kenny Boddye
DESCRIPTION:Join labor leaders for a fundraiser supporting Supervisor Kenny Boddye’s re-election campaign for Occoquan County Supervisor. \nHost Committee \nJennifer Carroll Foy\, Tonya James\, Harry Wiggins\, and Virginia Diamond\, President of Northern Virginia Labor Federation\, AFL-CIO. \nFor More Details: Click Here
URL:https://www.princewilliamdemocrats.com/event/2023-08-16-10am-labor-fundraiser-for-kenny-boddye/
CATEGORIES:Prince William County Democratic Event
ATTACH;FMTTYPE=image/jpeg:https://www.princewilliamdemocrats.com/wp-content/uploads/2023/08/2023-kenny-boddye-labor-leaders-fundraiser.jpg
END:VEVENT
END:VCALENDAR