BEGIN:VCALENDAR
VERSION:2.0
PRODID:-//Prince William County Democrats - ECPv6.15.20//NONSGML v1.0//EN
CALSCALE:GREGORIAN
METHOD:PUBLISH
X-WR-CALNAME:Prince William County Democrats
X-ORIGINAL-URL:https://www.princewilliamdemocrats.com
X-WR-CALDESC:Events for Prince William County Democrats
REFRESH-INTERVAL;VALUE=DURATION:PT1H
X-Robots-Tag:noindex
X-PUBLISHED-TTL:PT1H
BEGIN:VTIMEZONE
TZID:UTC
BEGIN:STANDARD
TZOFFSETFROM:+0000
TZOFFSETTO:+0000
TZNAME:UTC
DTSTART:20220101T000000
END:STANDARD
END:VTIMEZONE
BEGIN:VEVENT
DTSTART;TZID=UTC:20230813T170000
DTEND;TZID=UTC:20230813T200000
DTSTAMP:20260420T185227
CREATED:20230818T032737Z
LAST-MODIFIED:20230818T032737Z
UID:10001705-1691946000-1691956800@www.princewilliamdemocrats.com
SUMMARY:Dr. Lateef and friends Campaign Kick-Off and Fundraiser
DESCRIPTION:Please Join Dr. Lateef and friends for his campaign Kick-Off and Fundraiser with Former Governor\, Terry McAuliffe\, August 13\, 2023 at 5pm. \n  \nRSVP: 2023 Kickoff Fundraiser for Friends of Dr. Lateef with Gov. Terry McAuliffe (ngpvan.com)
URL:https://www.princewilliamdemocrats.com/event/dr-lateef-and-friends-campaign-kick-off-and-fundraiser/
CATEGORIES:Prince William County Democratic Event
ATTACH;FMTTYPE=image/png:https://www.princewilliamdemocrats.com/wp-content/uploads/2023/08/2023-dr-babur-kick-off-fundraiser.png
END:VEVENT
END:VCALENDAR