BEGIN:VCALENDAR
VERSION:2.0
PRODID:-//Prince William County Democrats - ECPv6.15.20//NONSGML v1.0//EN
CALSCALE:GREGORIAN
METHOD:PUBLISH
X-WR-CALNAME:Prince William County Democrats
X-ORIGINAL-URL:https://www.princewilliamdemocrats.com
X-WR-CALDESC:Events for Prince William County Democrats
REFRESH-INTERVAL;VALUE=DURATION:PT1H
X-Robots-Tag:noindex
X-PUBLISHED-TTL:PT1H
BEGIN:VTIMEZONE
TZID:UTC
BEGIN:STANDARD
TZOFFSETFROM:+0000
TZOFFSETTO:+0000
TZNAME:UTC
DTSTART:20220101T000000
END:STANDARD
END:VTIMEZONE
BEGIN:VEVENT
DTSTART;TZID=UTC:20230810T180000
DTEND;TZID=UTC:20230810T200000
DTSTAMP:20260420T185232
CREATED:20230813T145406Z
LAST-MODIFIED:20230813T145952Z
UID:10001696-1691690400-1691697600@www.princewilliamdemocrats.com
SUMMARY:Supervisor Kenny Boddye - Occoquan District Community Safety Town Hall
DESCRIPTION:For More Details: Click Here\n\n \n\n𝘚𝘱𝘳𝘦𝘢𝘥 𝘵𝘩𝘦 𝘸𝘰𝘳𝘥! 𝗬𝗼𝘂 𝗰𝗮𝗻 𝗵𝗲𝗮𝗿 𝗱𝗶𝗿𝗲𝗰𝘁𝗹𝘆 𝗳𝗿𝗼𝗺 𝘁𝗵𝗲 𝗹𝗲𝗮𝗱𝗲𝗿𝘀 𝗼𝗳 𝗣𝗪𝗖 𝗽𝘂𝗯𝗹𝗶𝗰 𝘀𝗮𝗳𝗲𝘁𝘆 𝗮𝗴𝗲𝗻𝗰𝗶𝗲𝘀 Thursday\, August 10\, as they join Supervisor Boddye for a deep-dive on making our neighborhoods safer. Speakers will include:\n\n \n\nPrince William County Police Department Chief Peter Newsham\n\n \n\nPrince William County Fire & Rescue System Thomas LaBelle\n\n \n\nPrince William County 911 Communications Director Michele Surdam\n\n \n\nPrince William County Public Schools Risk Management & Safety Director Ron Crowe\n\n \n\nWe’ll also be joined by leaders of our Community Safety and Traffic Safety teams. Following 𝗮 𝗳𝗶𝗿𝘀𝘁 𝗹𝗼𝗼𝗸 𝗮𝘁 𝘁𝗵𝗲 𝗻𝗲𝘄 𝗖𝗼𝗺𝗺𝘂𝗻𝗶𝘁𝘆 𝗦𝗮𝗳𝗲𝘁𝘆 𝗜𝗻𝗶𝘁𝗶𝗮𝘁𝗶𝘃𝗲 𝗮𝗻𝗱 𝘂𝗽𝗱𝗮𝘁𝗲𝘀 𝗼𝗻 𝗰𝗿𝗶𝗺𝗲 & 𝘀𝗮𝗳𝗲𝘁𝘆 𝘁𝗿𝗲𝗻𝗱𝘀 in the Occoquan District\, you’ll have opportunities to share questions and concerns. You can also 𝘀𝘂𝗯𝗺𝗶𝘁 𝗾𝘂𝗲𝘀𝘁𝗶𝗼𝗻𝘀 𝗮𝗻𝗱 𝗰𝗼𝗺𝗺𝗲𝗻𝘁s in advance using the registration link below. We hope to see you at 𝗖𝗵𝗶𝗻𝗻 𝗣𝗮𝗿𝗸 𝗥𝗲𝗴𝗶𝗼𝗻𝗮𝗹 𝗟𝗶𝗯𝗿𝗮𝗿𝘆 \, 𝟲-𝟴:𝟬𝟬 𝗽𝗺 𝗼𝗻 𝗔𝘂𝗴. 𝟭𝟬\, for this important community discussion.
URL:https://www.princewilliamdemocrats.com/event/2023-08-10-6pm-supervisor-kenny-boddye-occoquan-district-community-safety-town-hall/
CATEGORIES:Prince William County Event
ATTACH;FMTTYPE=image/jpeg:https://www.princewilliamdemocrats.com/wp-content/uploads/2023/08/2023-kenny-boddye-community-safety.jpg
END:VEVENT
END:VCALENDAR