BEGIN:VCALENDAR
VERSION:2.0
PRODID:-//Prince William County Democrats - ECPv6.15.20//NONSGML v1.0//EN
CALSCALE:GREGORIAN
METHOD:PUBLISH
X-ORIGINAL-URL:https://www.princewilliamdemocrats.com
X-WR-CALDESC:Events for Prince William County Democrats
REFRESH-INTERVAL;VALUE=DURATION:PT1H
X-Robots-Tag:noindex
X-PUBLISHED-TTL:PT1H
BEGIN:VTIMEZONE
TZID:UTC
BEGIN:STANDARD
TZOFFSETFROM:+0000
TZOFFSETTO:+0000
TZNAME:UTC
DTSTART:20220101T000000
END:STANDARD
END:VTIMEZONE
BEGIN:VEVENT
DTSTART;TZID=UTC:20230805T113000
DTEND;TZID=UTC:20230805T133000
DTSTAMP:20260420T185224
CREATED:20230802T115358Z
LAST-MODIFIED:20230802T115358Z
UID:10001386-1691235000-1691242200@www.princewilliamdemocrats.com
SUMMARY:Coles District Monthly Meeting
DESCRIPTION:Please contact Coles District Leadership for additional details.
URL:https://www.princewilliamdemocrats.com/event/2023-08-05-1130am-coles-district-monthly-meeting/
LOCATION:Virtual Event
CATEGORIES:District Meeting
ATTACH;FMTTYPE=image/jpeg:https://www.princewilliamdemocrats.com/wp-content/uploads/2021/02/democratic-monthly-meeting.jpg
END:VEVENT
BEGIN:VEVENT
DTSTART;TZID=UTC:20230805T170000
DTEND;TZID=UTC:20230805T193000
DTSTAMP:20260420T185224
CREATED:20230803T135314Z
LAST-MODIFIED:20230803T135314Z
UID:10001693-1691254800-1691263800@www.princewilliamdemocrats.com
SUMMARY:Gainesville Fundraiser with Danica Roem and Josh Thomas
DESCRIPTION:Join us for a fundraiser this Saturday\, 8/5 in support of Danica Roem – Virginia Delegate for State Senate & Josh Thomas for Delegate!\n\n\nDanica and Josh are running in MUST-WIN districts this year to secure Democratic majorities in the VA House & State Senate\, so help us support these excellent candidates early in the race so we can win this November!\n\n\n RSVP + Donate here:\nhttps://secure.actblue.com/donate/roem-thomas-23
URL:https://www.princewilliamdemocrats.com/event/2023-08-05-5pm-gainesville-fundraiser-with-danica-roem-and-josh-thomas/
CATEGORIES:Prince William County Democratic Event
ATTACH;FMTTYPE=image/jpeg:https://www.princewilliamdemocrats.com/wp-content/uploads/2023/08/2023-gainesville-fundraiser-danica-josh-thomas.jpg
END:VEVENT
END:VCALENDAR