BEGIN:VCALENDAR
VERSION:2.0
PRODID:-//Prince William County Democrats - ECPv6.15.20//NONSGML v1.0//EN
CALSCALE:GREGORIAN
METHOD:PUBLISH
X-ORIGINAL-URL:https://www.princewilliamdemocrats.com
X-WR-CALDESC:Events for Prince William County Democrats
REFRESH-INTERVAL;VALUE=DURATION:PT1H
X-Robots-Tag:noindex
X-PUBLISHED-TTL:PT1H
BEGIN:VTIMEZONE
TZID:UTC
BEGIN:STANDARD
TZOFFSETFROM:+0000
TZOFFSETTO:+0000
TZNAME:UTC
DTSTART:20220101T000000
END:STANDARD
END:VTIMEZONE
BEGIN:VEVENT
DTSTART;TZID=UTC:20230730T173000
DTEND;TZID=UTC:20230730T190000
DTSTAMP:20260420T203608
CREATED:20230716T143054Z
LAST-MODIFIED:20230716T143116Z
UID:10001689-1690738200-1690743600@www.princewilliamdemocrats.com
SUMMARY:Michelle Maldonado Summer Backyard BBQ
DESCRIPTION:Please Attend Delegate Michelle Maldonado’s Campaign Kick-Off Fundraiser and Backyard BBQ\, Sunday\, \nJuly 30th 5:30-7pm in Manassas. \n  \nRSVP: https://secure.actblue.com/donate/maldonadokickoff
URL:https://www.princewilliamdemocrats.com/event/2023-07-30-530pm-michelle-maldonado-summer-backyard-bbq/
CATEGORIES:Prince William County Democratic Event
ATTACH;FMTTYPE=image/png:https://www.princewilliamdemocrats.com/wp-content/uploads/2023/07/2023-michelle-maldonado-summer-backyard-bbq.png
END:VEVENT
END:VCALENDAR