BEGIN:VCALENDAR
VERSION:2.0
PRODID:-//Prince William County Democrats - ECPv6.15.20//NONSGML v1.0//EN
CALSCALE:GREGORIAN
METHOD:PUBLISH
X-WR-CALNAME:Prince William County Democrats
X-ORIGINAL-URL:https://www.princewilliamdemocrats.com
X-WR-CALDESC:Events for Prince William County Democrats
REFRESH-INTERVAL;VALUE=DURATION:PT1H
X-Robots-Tag:noindex
X-PUBLISHED-TTL:PT1H
BEGIN:VTIMEZONE
TZID:UTC
BEGIN:STANDARD
TZOFFSETFROM:+0000
TZOFFSETTO:+0000
TZNAME:UTC
DTSTART:20220101T000000
END:STANDARD
END:VTIMEZONE
BEGIN:VEVENT
DTSTART;TZID=UTC:20230722T100000
DTEND;TZID=UTC:20230722T140000
DTSTAMP:20260420T203536
CREATED:20230716T142133Z
LAST-MODIFIED:20230716T142133Z
UID:10001687-1690020000-1690034400@www.princewilliamdemocrats.com
SUMMARY:Pancake Brunch with Richard Jessie
DESCRIPTION:Save the date for a Pancake Brunch on Saturday\, 7/22 in support of Richard Jessie\, our Democratic candidate for Occoquan District PWCS Board!\n\n\n RSVP:\nhttps://signup.com/go/RMoUutE\n\n\n Donations:\nhttps://secure.actblue.com/donate/pancake2023
URL:https://www.princewilliamdemocrats.com/event/2023-07-22-10am-pancake-brunch-with-richard-jessie/
CATEGORIES:Prince William County Democratic Event
ATTACH;FMTTYPE=image/jpeg:https://www.princewilliamdemocrats.com/wp-content/uploads/2023/07/2023-richard-jessie-pancake-brunch.jpg
END:VEVENT
END:VCALENDAR