BEGIN:VCALENDAR
VERSION:2.0
PRODID:-//Prince William County Democrats - ECPv6.15.20//NONSGML v1.0//EN
CALSCALE:GREGORIAN
METHOD:PUBLISH
X-WR-CALNAME:Prince William County Democrats
X-ORIGINAL-URL:https://www.princewilliamdemocrats.com
X-WR-CALDESC:Events for Prince William County Democrats
REFRESH-INTERVAL;VALUE=DURATION:PT1H
X-Robots-Tag:noindex
X-PUBLISHED-TTL:PT1H
BEGIN:VTIMEZONE
TZID:UTC
BEGIN:STANDARD
TZOFFSETFROM:+0000
TZOFFSETTO:+0000
TZNAME:UTC
DTSTART:20220101T000000
END:STANDARD
END:VTIMEZONE
BEGIN:VEVENT
DTSTART;TZID=UTC:20230625T130000
DTEND;TZID=UTC:20230625T160000
DTSTAMP:20260420T220957
CREATED:20230427T012357Z
LAST-MODIFIED:20230427T012357Z
UID:10001639-1687698000-1687708800@www.princewilliamdemocrats.com
SUMMARY:Join us at Danica Roem's Manassas Fundraiser!
DESCRIPTION:For More Details: Click Here \nVirginia Del. Danica Roem is running for the 30th District of the state Senate this fall! So please join us at Tandoori Village in Manassas to support Danica’s election campaign on Sunday\, June 25 from 1-4 p.m. \nThis is one of our first events of the general election\, so let’s get together to prepare to elect Danica and protect the Democratic majority in Virginia’s state Senate. \nRegister today by contributing: \nHost: $1\,000 \nCo-Host: $500 \nAlly: $250 \nFriend: $100 \nSupporter: $50 \nYoung Democrat*: $30 \n*Young Democrats are identified as students and young professionals under the age of 35. \nContact alia@danicaforstatesenate.com for questions! \nDonate by check to: \nFriends of Danica Roem for Senate \nP.O. Box 726 \nManassas\, VA 20113
URL:https://www.princewilliamdemocrats.com/event/2023-06-25-join-us-at-danica-roems-manassas-fundraiser/
CATEGORIES:Prince William County Democratic Event
ATTACH;FMTTYPE=image/png:https://www.princewilliamdemocrats.com/wp-content/uploads/2023/04/2023-danica-roem-for-va-state-senate.png
END:VEVENT
END:VCALENDAR