BEGIN:VCALENDAR
VERSION:2.0
PRODID:-//Prince William County Democrats - ECPv6.15.20//NONSGML v1.0//EN
CALSCALE:GREGORIAN
METHOD:PUBLISH
X-ORIGINAL-URL:https://www.princewilliamdemocrats.com
X-WR-CALDESC:Events for Prince William County Democrats
REFRESH-INTERVAL;VALUE=DURATION:PT1H
X-Robots-Tag:noindex
X-PUBLISHED-TTL:PT1H
BEGIN:VTIMEZONE
TZID:UTC
BEGIN:STANDARD
TZOFFSETFROM:+0000
TZOFFSETTO:+0000
TZNAME:UTC
DTSTART:20220101T000000
END:STANDARD
END:VTIMEZONE
BEGIN:VEVENT
DTSTART;TZID=UTC:20230616T160000
DTEND;TZID=UTC:20230616T180000
DTSTAMP:20260420T220211
CREATED:20230619T152903Z
LAST-MODIFIED:20230619T152903Z
UID:10001667-1686931200-1686938400@www.princewilliamdemocrats.com
SUMMARY:Natalie Shorter for Delegate
DESCRIPTION:For More Details: Click Here
URL:https://www.princewilliamdemocrats.com/event/2023-06-16-4pm-natalie-shorter-for-delegate/
CATEGORIES:Prince William County Democratic Event
ATTACH;FMTTYPE=image/jpeg:https://www.princewilliamdemocrats.com/wp-content/uploads/2023/06/2023-natalie-shorter-for-delgate.jpg
END:VEVENT
BEGIN:VEVENT
DTSTART;TZID=UTC:20230616T170000
DTEND;TZID=UTC:20230616T190000
DTSTAMP:20260420T220211
CREATED:20230619T151843Z
LAST-MODIFIED:20230619T151843Z
UID:10001665-1686934800-1686942000@www.princewilliamdemocrats.com
SUMMARY:Join us in Support of Prince William County Democrats with Special Guest Sen. Mark Warner!
DESCRIPTION:For More Details: Click Here
URL:https://www.princewilliamdemocrats.com/event/2023-06-16-500pm-join-us-in-support-of-prince-william-county-democrats-with-special-guest-sen-mark-warner/
CATEGORIES:Prince William County Democratic Event
ATTACH;FMTTYPE=image/jpeg:https://www.princewilliamdemocrats.com/wp-content/uploads/2023/06/2023-fundraiser-us-senator-mark-warner.jpg
END:VEVENT
END:VCALENDAR