BEGIN:VCALENDAR
VERSION:2.0
PRODID:-//Prince William County Democrats - ECPv6.15.20//NONSGML v1.0//EN
CALSCALE:GREGORIAN
METHOD:PUBLISH
X-WR-CALNAME:Prince William County Democrats
X-ORIGINAL-URL:https://www.princewilliamdemocrats.com
X-WR-CALDESC:Events for Prince William County Democrats
REFRESH-INTERVAL;VALUE=DURATION:PT1H
X-Robots-Tag:noindex
X-PUBLISHED-TTL:PT1H
BEGIN:VTIMEZONE
TZID:UTC
BEGIN:STANDARD
TZOFFSETFROM:+0000
TZOFFSETTO:+0000
TZNAME:UTC
DTSTART:20220101T000000
END:STANDARD
END:VTIMEZONE
BEGIN:VEVENT
DTSTART;TZID=UTC:20230605T183000
DTEND;TZID=UTC:20230605T203000
DTSTAMP:20260420T220148
CREATED:20230605T204509Z
LAST-MODIFIED:20230605T204509Z
UID:10001359-1685989800-1685997000@www.princewilliamdemocrats.com
SUMMARY:Join Travis Nembhard at Cedar Run Brewery in Nokesville
DESCRIPTION:For More Details: Click Here \nDate: June 5\, 2023 \nTime: 6:30-8:30pm \nLocation: 12801 Hazelwood Dr\, Nokesville\, VA \nTravis Nembhard is running to represent Prince William County residents in the VA House of Delegates’ 22nd District. \nWe invite you to join Travis for a meet and greet where he will discuss his plans for the campaign\, his policy positions\, and how you can further help the campaign secure the District 22 seat and a Democratic majority in the House of Delegates.
URL:https://www.princewilliamdemocrats.com/event/2023-06-05-630pm-join-travis-nembhard-at-cedar-run-brewery-in-nokesville/
CATEGORIES:Prince William County Delegate Event
ATTACH;FMTTYPE=image/jpeg:https://www.princewilliamdemocrats.com/wp-content/uploads/2023/06/2023-travis-nembard-fordelegate-cedar-run.jpg
END:VEVENT
END:VCALENDAR