BEGIN:VCALENDAR
VERSION:2.0
PRODID:-//Prince William County Democrats - ECPv6.15.20//NONSGML v1.0//EN
CALSCALE:GREGORIAN
METHOD:PUBLISH
X-ORIGINAL-URL:https://www.princewilliamdemocrats.com
X-WR-CALDESC:Events for Prince William County Democrats
REFRESH-INTERVAL;VALUE=DURATION:PT1H
X-Robots-Tag:noindex
X-PUBLISHED-TTL:PT1H
BEGIN:VTIMEZONE
TZID:UTC
BEGIN:STANDARD
TZOFFSETFROM:+0000
TZOFFSETTO:+0000
TZNAME:UTC
DTSTART:20220101T000000
END:STANDARD
END:VTIMEZONE
BEGIN:VEVENT
DTSTART;TZID=UTC:20230603T110000
DTEND;TZID=UTC:20230603T130000
DTSTAMP:20260420T221112
CREATED:20230525T211016Z
LAST-MODIFIED:20230525T211143Z
UID:10001659-1685790000-1685797200@www.princewilliamdemocrats.com
SUMMARY:Town Hall Meeting - PHI Beta Sigma Fraternity
DESCRIPTION:Fore More Details: Click Here \n\n“Let Us Be Clear about Education\, Business\, and Social Action”: Attendees Form\n\n\n\nSaturday\, June 3\, 2023\, 11:00 AM – 1:00 PM \n\n(Doors open to the public at 10:45AM) \n\nLittle Union Baptist Church\n\n17150 Batestown Road Dumfries VA 22025 \n\nContact Us\n(703) 987-8635 or sigmas@ozs1914.org
URL:https://www.princewilliamdemocrats.com/event/2023-06-03-11am-town-hall-meeting-phi-beta-fraternity/
CATEGORIES:Prince William County Democratic Event
ATTACH;FMTTYPE=image/jpeg:https://www.princewilliamdemocrats.com/wp-content/uploads/2023/05/2023-town-hall-union-baptist.jpg
END:VEVENT
END:VCALENDAR