BEGIN:VCALENDAR
VERSION:2.0
PRODID:-//Prince William County Democrats - ECPv6.15.20//NONSGML v1.0//EN
CALSCALE:GREGORIAN
METHOD:PUBLISH
X-ORIGINAL-URL:https://www.princewilliamdemocrats.com
X-WR-CALDESC:Events for Prince William County Democrats
REFRESH-INTERVAL;VALUE=DURATION:PT1H
X-Robots-Tag:noindex
X-PUBLISHED-TTL:PT1H
BEGIN:VTIMEZONE
TZID:UTC
BEGIN:STANDARD
TZOFFSETFROM:+0000
TZOFFSETTO:+0000
TZNAME:UTC
DTSTART:20220101T000000
END:STANDARD
END:VTIMEZONE
BEGIN:VEVENT
DTSTART;TZID=UTC:20230525T173000
DTEND;TZID=UTC:20230525T190000
DTSTAMP:20260420T234146
CREATED:20230525T212443Z
LAST-MODIFIED:20230525T212443Z
UID:10001660-1685035800-1685041200@www.princewilliamdemocrats.com
SUMMARY:Rozia Henson For Delegate
DESCRIPTION:Be my guest?! Please join the Henson campaign and @Victoryfund as we help kick off Black Pride in the Washington D.C. area.
URL:https://www.princewilliamdemocrats.com/event/2023-05-25-530pm-rozia-henson-for-delegate/
CATEGORIES:Prince William County Democratic Event
ATTACH;FMTTYPE=image/jpeg:https://www.princewilliamdemocrats.com/wp-content/uploads/2023/05/2023-black-pride-fundraiser.jpg
END:VEVENT
BEGIN:VEVENT
DTSTART;TZID=UTC:20230525T183000
DTEND;TZID=UTC:20230525T200000
DTSTAMP:20260420T234146
CREATED:20230517T000038Z
LAST-MODIFIED:20230517T000130Z
UID:10001656-1685039400-1685044800@www.princewilliamdemocrats.com
SUMMARY:Josh Thomas for Delegate
DESCRIPTION:Save the date Join Delegates Dan Helmer and Danica Roem for an evening in support of Josh Thomas for Delegate! \n\n\n\nRSVP�� https://secure.actblue.com/donate/jetforva \n\n\n\nCome enjoy an evening with great food and learn about how the 21st District is crucial to retaking the majority!
URL:https://www.princewilliamdemocrats.com/event/2023-05-25-630pm-josh-thomas-for-delegate/
CATEGORIES:Prince William County Delegate Event
ATTACH;FMTTYPE=image/jpeg:https://www.princewilliamdemocrats.com/wp-content/uploads/2023/05/2023-josh-thomas-for-delegate.jpg
END:VEVENT
END:VCALENDAR