BEGIN:VCALENDAR
VERSION:2.0
PRODID:-//Prince William County Democrats - ECPv6.15.20//NONSGML v1.0//EN
CALSCALE:GREGORIAN
METHOD:PUBLISH
X-WR-CALNAME:Prince William County Democrats
X-ORIGINAL-URL:https://www.princewilliamdemocrats.com
X-WR-CALDESC:Events for Prince William County Democrats
REFRESH-INTERVAL;VALUE=DURATION:PT1H
X-Robots-Tag:noindex
X-PUBLISHED-TTL:PT1H
BEGIN:VTIMEZONE
TZID:UTC
BEGIN:STANDARD
TZOFFSETFROM:+0000
TZOFFSETTO:+0000
TZNAME:UTC
DTSTART:20220101T000000
END:STANDARD
END:VTIMEZONE
BEGIN:VEVENT
DTSTART;TZID=UTC:20230430T140000
DTEND;TZID=UTC:20230430T170000
DTSTAMP:20260421T004748
CREATED:20230419T203151Z
LAST-MODIFIED:20230419T203151Z
UID:10001340-1682863200-1682874000@www.princewilliamdemocrats.com
SUMMARY:Canvass With Amy\, Andrea\, and Justin!
DESCRIPTION:For More Details: Click Here \n\n\n\n\n\nJoin us on Sunday for a canvass in Dumfries to talk with your neighbors about the issues that are important to them — and why Amy Ashworth\, Andrea Bailey\, and Justin Wilk are the right people to move Prince William County forward in 2023! \nIf you have any accessibility needs\, please let us know by emailing Taylor@voteashworth.com or calling/texting 7023-325-6536 so that we can make sure the event will be accessible and comfortable for you. \nWe’ll see you there!
URL:https://www.princewilliamdemocrats.com/event/2023-04-30-2pm-canvass-with-amy-andrea-and-justin/
CATEGORIES:Prince William County Democratic Event
ATTACH;FMTTYPE=image/png:https://www.princewilliamdemocrats.com/wp-content/uploads/2023/04/2023-canvass-with-bailey-ashworth-wilk.png
END:VEVENT
END:VCALENDAR