BEGIN:VCALENDAR
VERSION:2.0
PRODID:-//Prince William County Democrats - ECPv6.15.20//NONSGML v1.0//EN
CALSCALE:GREGORIAN
METHOD:PUBLISH
X-ORIGINAL-URL:https://www.princewilliamdemocrats.com
X-WR-CALDESC:Events for Prince William County Democrats
REFRESH-INTERVAL;VALUE=DURATION:PT1H
X-Robots-Tag:noindex
X-PUBLISHED-TTL:PT1H
BEGIN:VTIMEZONE
TZID:UTC
BEGIN:STANDARD
TZOFFSETFROM:+0000
TZOFFSETTO:+0000
TZNAME:UTC
DTSTART:20220101T000000
END:STANDARD
END:VTIMEZONE
BEGIN:VEVENT
DTSTART;TZID=UTC:20230429T130000
DTEND;TZID=UTC:20230429T160000
DTSTAMP:20260421T004832
CREATED:20230426T235900Z
LAST-MODIFIED:20230426T235900Z
UID:10001637-1682773200-1682784000@www.princewilliamdemocrats.com
SUMMARY:Bristow Canvass - Travis Nembhard For Delegate
DESCRIPTION:For More Details: Click Here \nJoin the Travis Nembhard for Virginia team as we go door to door and talk to voters about November 7th election!
URL:https://www.princewilliamdemocrats.com/event/2023-04-29-1pm-bristow-canvass-travis-nembhard-for-delegate/
CATEGORIES:Prince William County Democratic Event
ATTACH;FMTTYPE=image/png:https://www.princewilliamdemocrats.com/wp-content/uploads/2023/04/2023-travis-nembhard-for-delegate-2.png
END:VEVENT
BEGIN:VEVENT
DTSTART;TZID=UTC:20230429T143000
DTEND;TZID=UTC:20230429T163000
DTSTAMP:20260421T004832
CREATED:20230426T221121Z
LAST-MODIFIED:20230426T221404Z
UID:10001636-1682778600-1682785800@www.princewilliamdemocrats.com
SUMMARY:Calling All PWCS Mental Health Specialists\, Educators\, And Staff! Join Julia In A Round Table Discussion
DESCRIPTION:Calling all PWCS Mental Health Specialists\, Educators\,  and Staff! Join Julia in a round\ntable discussion on April 29rd from 2:30-4:30 at Potomac Community Library. A zoom link can be provided upon request. Light refreshments will be provided. We will be in the Community Room Please email\ninfo@bigginsforpwcs.org for any questions.
URL:https://www.princewilliamdemocrats.com/event/2023-04-29-230pm-calling-all-pwcs-mental-health-specialists-educators-and-staff-join-julia-in-a-round-table-discussion/
CATEGORIES:Prince William County Democratic Event
ATTACH;FMTTYPE=image/jpeg:https://www.princewilliamdemocrats.com/wp-content/uploads/2023/04/2023-julia-biggins-for-school-board.jpg
END:VEVENT
BEGIN:VEVENT
DTSTART;TZID=UTC:20230429T150000
DTEND;TZID=UTC:20230429T170000
DTSTAMP:20260421T004832
CREATED:20230429T224915Z
LAST-MODIFIED:20230429T224915Z
UID:10001640-1682780400-1682787600@www.princewilliamdemocrats.com
SUMMARY:Nate Murphy - The Kick Off
DESCRIPTION:Join Nate Murphy this Saturday\, April 29th for his Kick-Off campaign event from 3-5pm! \nLearn more about Nate Murphy’s campaign for Neabsco Supervisor here: https://www.nate4neabsco.com/
URL:https://www.princewilliamdemocrats.com/event/2023-04-29-3pm-nate-murphy-the-kick-off/
CATEGORIES:Prince William County Democratic Event
ATTACH;FMTTYPE=image/jpeg:https://www.princewilliamdemocrats.com/wp-content/uploads/2023/04/2023-nate-murphy-campaign-kickoff.jpg
END:VEVENT
END:VCALENDAR